BEGIN:VCALENDAR
VERSION:2.0
PRODID:-//MTB Club Discovery - ECPv5.1.4//NONSGML v1.0//EN
CALSCALE:GREGORIAN
METHOD:PUBLISH
X-WR-CALNAME:MTB Club Discovery
X-ORIGINAL-URL:https://mtbclub-discovery.nl
X-WR-CALDESC:Evenementen voor MTB Club Discovery
BEGIN:VTIMEZONE
TZID:Europe/Amsterdam
BEGIN:DAYLIGHT
TZOFFSETFROM:+0100
TZOFFSETTO:+0200
TZNAME:CEST
DTSTART:20170326T010000
END:DAYLIGHT
BEGIN:STANDARD
TZOFFSETFROM:+0200
TZOFFSETTO:+0100
TZNAME:CET
DTSTART:20171029T010000
END:STANDARD
END:VTIMEZONE
BEGIN:VEVENT
DTSTART;TZID=Europe/Amsterdam:20170405T190000
DTEND;TZID=Europe/Amsterdam:20170405T210000
DTSTAMP:20260424T081706
CREATED:20170330T093212Z
LAST-MODIFIED:20170330T093212Z
UID:66376-1491418800-1491426000@mtbclub-discovery.nl
SUMMARY:Woensdagavondclubtocht
DESCRIPTION:5 april is onze tweede zomertijdavondclubtocht voor dit jaar. Vorige week hebben we een rondje gemaakt om groeve Adolf\, hoe dat was kun je hier lezen. Waar gaan we deze week naar toe? Als je een goed idee hebt en om 19.00 uur op Park Strijthagen staat mag je het zeggen… We willen wel graag om 21.00 uur weer terug zijn op Park Strijthagen. \nWe fietsen met het motto ‘samen uit\, samen thuis’\, dus fietsers van alle nivo’s zijn welkom. Indien gewenst wordt de groep opgesplitst. \n
URL:https://mtbclub-discovery.nl/kalender/woensdagavondclubtocht/
LOCATION:Park Strijthagen\, Hofstraat 5\, Landgraaf\, Limburg\, Nederland
CATEGORIES:Clubtocht
END:VEVENT
END:VCALENDAR