BEGIN:VCALENDAR
VERSION:2.0
PRODID:-//MTB Club Discovery - ECPv5.1.4//NONSGML v1.0//EN
CALSCALE:GREGORIAN
METHOD:PUBLISH
X-WR-CALNAME:MTB Club Discovery
X-ORIGINAL-URL:https://mtbclub-discovery.nl
X-WR-CALDESC:Evenementen voor MTB Club Discovery
BEGIN:VTIMEZONE
TZID:Europe/Amsterdam
BEGIN:DAYLIGHT
TZOFFSETFROM:+0100
TZOFFSETTO:+0200
TZNAME:CEST
DTSTART:20170326T010000
END:DAYLIGHT
BEGIN:STANDARD
TZOFFSETFROM:+0200
TZOFFSETTO:+0100
TZNAME:CET
DTSTART:20171029T010000
END:STANDARD
END:VTIMEZONE
BEGIN:VEVENT
DTSTART;TZID=Europe/Amsterdam:20170929T090000
DTEND;TZID=Europe/Amsterdam:20171001T170000
DTSTAMP:20260424T091142
CREATED:20170831T111023Z
LAST-MODIFIED:20170831T111322Z
UID:66909-1506675600-1506877200@mtbclub-discovery.nl
SUMMARY:Weekend Utrechtse Heuvelrug
DESCRIPTION:Voor de liefhebbers organiseert Olaf van 29 september tot en met 1 oktober de mogelijkheid om samen te biken in deze omgeving. \nDe lokale routes zijn via lussen samen te voegen tot 3 mooie dagtochten. \nRoutes zijn voor 85 a 90 procent onverhard met veel single trails die een lekkere flow hebben\, het mooie is dat het bij slechte omstandigheden ( regen ) deze tracks goed te mountain – biken blijven. \nPlan is om bij Park Ginkelduin ( Molecaten ) een huisje te huren. \n  \nVoor aanmeldingen even reageren in het betreffende forum topic. \n
URL:https://mtbclub-discovery.nl/kalender/weekend-utrechtse-heuvelrug/
LOCATION:Park Ginkelduin\, Scherpenzeelseweg 53\, Leersum\, Nederland
CATEGORIES:Club weekend
END:VEVENT
END:VCALENDAR