BEGIN:VCALENDAR
VERSION:2.0
PRODID:-//MTB Club Discovery - ECPv5.1.4//NONSGML v1.0//EN
CALSCALE:GREGORIAN
METHOD:PUBLISH
X-WR-CALNAME:MTB Club Discovery
X-ORIGINAL-URL:https://mtbclub-discovery.nl
X-WR-CALDESC:Evenementen voor MTB Club Discovery
BEGIN:VTIMEZONE
TZID:Europe/Amsterdam
BEGIN:DAYLIGHT
TZOFFSETFROM:+0100
TZOFFSETTO:+0200
TZNAME:CEST
DTSTART:20220327T010000
END:DAYLIGHT
BEGIN:STANDARD
TZOFFSETFROM:+0200
TZOFFSETTO:+0100
TZNAME:CET
DTSTART:20221030T010000
END:STANDARD
END:VTIMEZONE
BEGIN:VEVENT
DTSTART;TZID=Europe/Amsterdam:20221001T160000
DTEND;TZID=Europe/Amsterdam:20221001T173000
DTSTAMP:20260425T031648
CREATED:20220927T103728Z
LAST-MODIFIED:20220927T103728Z
UID:69176-1664640000-1664645400@mtbclub-discovery.nl
SUMMARY:Uitreiking MTB Trail Awards
DESCRIPTION:De uitreiking van de MTB Trail Awards 2022 vinden dit jaar plaats op zaterdag 1 oktober van 16.00 uur tot circa 17.30 in het SHIMANO Experience Center in Valkenburg. Nederland telt inmiddels meer dan 250 unieke MTB routes. De route awards\, ofwel MTB Trail Awards zijn in het leven geroepen om de routebouwers en vereniging verantwoordelijk voor het onderhoud van deze routes die Nederland eens goed in de schijnwerpers te zetten. Daarom spreken we onze waardering uit met prijzen in 6 verschillende categorieën. Klik hier voor het overzicht van de voorgaande jaren. \nEr zijn verschillende categorieën die door een vakjury aan de hand van specifieke criteria een winnaar selecteren. Iedere route ontvangt naast een mooi prijzenpakket een route paal met gouden plaquette. De publieksprijs is De Gouden Schop. Deze award wordt uitgereikt aan de route met de hoogste beoordelingsscore en meeste stemmen uit de poll. \nTijdens deze 5e editie van het evenement vieren wij de prijsuitreiking met hapjes en drankje\, Airbags\, muziek en special guests. \n
URL:https://mtbclub-discovery.nl/kalender/uitreiking-mtb-trail-awards/
LOCATION:Shimano Experience Center\, De Leeuwhof 2\, Valkenburg
CATEGORIES:Beurs
END:VEVENT
END:VCALENDAR