BEGIN:VCALENDAR
VERSION:2.0
PRODID:-//MTB Club Discovery - ECPv5.1.4//NONSGML v1.0//EN
CALSCALE:GREGORIAN
METHOD:PUBLISH
X-WR-CALNAME:MTB Club Discovery
X-ORIGINAL-URL:https://mtbclub-discovery.nl
X-WR-CALDESC:Evenementen voor MTB Club Discovery
BEGIN:VTIMEZONE
TZID:Europe/Amsterdam
BEGIN:DAYLIGHT
TZOFFSETFROM:+0100
TZOFFSETTO:+0200
TZNAME:CEST
DTSTART:20170326T010000
END:DAYLIGHT
BEGIN:STANDARD
TZOFFSETFROM:+0200
TZOFFSETTO:+0100
TZNAME:CET
DTSTART:20171029T010000
END:STANDARD
END:VTIMEZONE
BEGIN:VEVENT
DTSTART;TZID=Europe/Amsterdam:20171012T100000
DTEND;TZID=Europe/Amsterdam:20171012T120000
DTSTAMP:20260424T194008
CREATED:20171012T111620Z
LAST-MODIFIED:20171012T111621Z
UID:67011-1507802400-1507809600@mtbclub-discovery.nl
SUMMARY:Trailtocht Aken 14 oktober
DESCRIPTION:Bij deze nodigt Ritchie iedereen uit voor een uitdagende trailtocht in Aken. Dit is een tocht met veel technische afdalingen en zal niet over de reguliere route gaan. Deze tocht is voor de iets gevorderden rijders. Ongeveer 15 a 20 km lang over een tijdsbestek van een paar uurtjes.\nRequirements zijn een geveerde fiets! hoe meer veerweg hoe beter (maar geen DH want we gaan ook nog omhoog!) een goede helm en eventueel kniebeschermers. Het tempo van de rit wordt bepaald door de langzaamste rijder in de groep. \n  \nTijd en startlocatie zijn op te vragen via het bijbehorende forumtopic. \n
URL:https://mtbclub-discovery.nl/kalender/trailtocht-aken-14-oktober/
END:VEVENT
END:VCALENDAR