BEGIN:VCALENDAR
VERSION:2.0
PRODID:-//MTB Club Discovery - ECPv5.1.4//NONSGML v1.0//EN
CALSCALE:GREGORIAN
METHOD:PUBLISH
X-WR-CALNAME:MTB Club Discovery
X-ORIGINAL-URL:https://mtbclub-discovery.nl
X-WR-CALDESC:Evenementen voor MTB Club Discovery
BEGIN:VTIMEZONE
TZID:Europe/Amsterdam
BEGIN:DAYLIGHT
TZOFFSETFROM:+0100
TZOFFSETTO:+0200
TZNAME:CEST
DTSTART:20170326T010000
END:DAYLIGHT
BEGIN:STANDARD
TZOFFSETFROM:+0200
TZOFFSETTO:+0100
TZNAME:CET
DTSTART:20171029T010000
END:STANDARD
END:VTIMEZONE
BEGIN:VEVENT
DTSTART;TZID=Europe/Amsterdam:20171008T100000
DTEND;TZID=Europe/Amsterdam:20171008T160000
DTSTAMP:20260424T170536
CREATED:20171005T124928Z
LAST-MODIFIED:20171005T125346Z
UID:67002-1507456800-1507478400@mtbclub-discovery.nl
SUMMARY:Toma Cycles Limburgcross Eikenbos
DESCRIPTION:Op zondag 8 oktober is de Toma Cycles Limburgcross in het Eikenbos in Landgraaf. De Limburgcross kent wedstrijden voor cyclo-cross en MTB. Meer informatie op de site van Limburgcross: https://limburgcross.nl/evenement/wedstrijd-landgraaf-eijkhagen-2017 \n  \n
URL:https://mtbclub-discovery.nl/kalender/toma-cycles-limburgcross-eikenbos/
LOCATION:Eijkhagenbos\, Eijkhagenlaan 31\, Landgraaf\, Nederland
CATEGORIES:Wedstrijd
END:VEVENT
END:VCALENDAR