BEGIN:VCALENDAR
VERSION:2.0
PRODID:-//MTB Club Discovery - ECPv5.1.4//NONSGML v1.0//EN
CALSCALE:GREGORIAN
METHOD:PUBLISH
X-WR-CALNAME:MTB Club Discovery
X-ORIGINAL-URL:https://mtbclub-discovery.nl
X-WR-CALDESC:Evenementen voor MTB Club Discovery
BEGIN:VTIMEZONE
TZID:Europe/Amsterdam
BEGIN:DAYLIGHT
TZOFFSETFROM:+0100
TZOFFSETTO:+0200
TZNAME:CEST
DTSTART:20220327T010000
END:DAYLIGHT
BEGIN:STANDARD
TZOFFSETFROM:+0200
TZOFFSETTO:+0100
TZNAME:CET
DTSTART:20221030T010000
END:STANDARD
END:VTIMEZONE
BEGIN:VEVENT
DTSTART;TZID=Europe/Amsterdam:20221113T090000
DTEND;TZID=Europe/Amsterdam:20221113T130000
DTSTAMP:20260424T211534
CREATED:20221107T121301Z
LAST-MODIFIED:20221107T143557Z
UID:69190-1668330000-1668344400@mtbclub-discovery.nl
SUMMARY:Summit 2 summit MTB ride 2022
DESCRIPTION:Geïnspireerd door het Dutch Mountain Film Festival organiseert René op 13 november een rit van de Wilhelminaberg naar het parcours van de MTB XCO Worldcup wedstrijd op de Cauberg en weer terug. \nVertrek is om 9.00 uur bij Neoliet aan de Stadionbaan op de Kaldeborn. \n
URL:https://mtbclub-discovery.nl/kalender/summit-2-summit-mtb-ride-2022/
LOCATION:Neoliet\, Stadionbaan 52\, Heerlen\, 6416 CS\, Nederland
CATEGORIES:Tourtocht
END:VEVENT
END:VCALENDAR