BEGIN:VCALENDAR
VERSION:2.0
PRODID:-//MTB Club Discovery - ECPv5.1.4//NONSGML v1.0//EN
CALSCALE:GREGORIAN
METHOD:PUBLISH
X-WR-CALNAME:MTB Club Discovery
X-ORIGINAL-URL:https://mtbclub-discovery.nl
X-WR-CALDESC:Evenementen voor MTB Club Discovery
BEGIN:VTIMEZONE
TZID:Europe/Amsterdam
BEGIN:DAYLIGHT
TZOFFSETFROM:+0100
TZOFFSETTO:+0200
TZNAME:CEST
DTSTART:20170326T010000
END:DAYLIGHT
BEGIN:STANDARD
TZOFFSETFROM:+0200
TZOFFSETTO:+0100
TZNAME:CET
DTSTART:20171029T010000
END:STANDARD
END:VTIMEZONE
BEGIN:VEVENT
DTSTART;TZID=Europe/Amsterdam:20170827T110000
DTEND;TZID=Europe/Amsterdam:20170827T170000
DTSTAMP:20260423T131221
CREATED:20170803T084259Z
LAST-MODIFIED:20170803T084259Z
UID:66854-1503831600-1503853200@mtbclub-discovery.nl
SUMMARY:Steamrace Simpelveld
DESCRIPTION:Ben je al eens door een treinwagon gefietst of over een perron? Nee. Nou\, pak dan je kans op 27 augustus!\nSamen met de Zuid-Limburgse Stoomtrein Maatschappij hebben we een uitdagend en leuk MTB/ BMX parcours uitgezet vol met verrassende hindernissen. Een echte challenge voor elke jonge biker! \nDe steamrace\, zoals de naam al zegt\, staat helemaal in het teken van stoomtreinen en fietsen. De race is bedoeld voor de schoolgaande jeugd van 8 tot 15 jaar. \nWe hebben zelfs een race waarbij je samen met een van je ouders of volwassen familielid een heuse estafette race rijdt over het parcours. \nNaast de funklassen hebben we ook nog een wedstrijd ride voor junioren\, dames en heren over een groter parcours. \nMeer informatie is hier te vinden: https://crossbordercycling.eu/project/mtb-steamrace-simpelveld/ \n
URL:https://mtbclub-discovery.nl/kalender/steamrace-simpelveld/
LOCATION:Station Simpelveld\, Stationstraat\, Simpelveld\, Nederland
CATEGORIES:Tourtocht
END:VEVENT
END:VCALENDAR