BEGIN:VCALENDAR
VERSION:2.0
PRODID:-//MTB Club Discovery - ECPv5.1.4//NONSGML v1.0//EN
CALSCALE:GREGORIAN
METHOD:PUBLISH
X-WR-CALNAME:MTB Club Discovery
X-ORIGINAL-URL:https://mtbclub-discovery.nl
X-WR-CALDESC:Evenementen voor MTB Club Discovery
BEGIN:VTIMEZONE
TZID:Europe/Amsterdam
BEGIN:DAYLIGHT
TZOFFSETFROM:+0100
TZOFFSETTO:+0200
TZNAME:CEST
DTSTART:20240331T010000
END:DAYLIGHT
BEGIN:STANDARD
TZOFFSETFROM:+0200
TZOFFSETTO:+0100
TZNAME:CET
DTSTART:20241027T010000
END:STANDARD
END:VTIMEZONE
BEGIN:VEVENT
DTSTART;TZID=Europe/Amsterdam:20240525T110000
DTEND;TZID=Europe/Amsterdam:20240525T150000
DTSTAMP:20260423T193724
CREATED:20240515T121653Z
LAST-MODIFIED:20240522T151304Z
UID:69460-1716634800-1716649200@mtbclub-discovery.nl
SUMMARY:Stad als speeltuindag
DESCRIPTION:Op zaterdag 25 mei doen we samen met Loose Riders Limburg mee aan de Stad als Speeltuindag in Heerlen centrum. Naast het Glaspaleis aan de Bongerd zullen de Loose Riders de gehele dag een MTB Freeride demo geven met een schans en een airbag. \n  \n  \n
URL:https://mtbclub-discovery.nl/kalender/stad-als-speeltuindag/
LOCATION:Bongerd\, Bongerd\, Heerlen
CATEGORIES:Club evenement
END:VEVENT
END:VCALENDAR