BEGIN:VCALENDAR
VERSION:2.0
PRODID:-//MTB Club Discovery - ECPv5.1.4//NONSGML v1.0//EN
CALSCALE:GREGORIAN
METHOD:PUBLISH
X-WR-CALNAME:MTB Club Discovery
X-ORIGINAL-URL:https://mtbclub-discovery.nl
X-WR-CALDESC:Evenementen voor MTB Club Discovery
BEGIN:VTIMEZONE
TZID:Europe/Amsterdam
BEGIN:DAYLIGHT
TZOFFSETFROM:+0100
TZOFFSETTO:+0200
TZNAME:CEST
DTSTART:20230326T010000
END:DAYLIGHT
BEGIN:STANDARD
TZOFFSETFROM:+0200
TZOFFSETTO:+0100
TZNAME:CET
DTSTART:20231029T010000
END:STANDARD
END:VTIMEZONE
BEGIN:VEVENT
DTSTART;TZID=Europe/Amsterdam:20230614T190000
DTEND;TZID=Europe/Amsterdam:20230614T210000
DTSTAMP:20260424T153706
CREATED:20230613T142529Z
LAST-MODIFIED:20230613T142930Z
UID:69331-1686769200-1686776400@mtbclub-discovery.nl
SUMMARY:Snoeironde Roode Beekroute
DESCRIPTION:Op woensdagavond 14 juni gaan we snoeien op de Roode Beekroute. We verzamelen om 19 uur bij Park het Plateau\, iedereen kan meehelpen. \n  \nMeenemen: Snoeischaar en fiets \n
URL:https://mtbclub-discovery.nl/kalender/snoeironde-bikepark-hendrik/
LOCATION:Klimbos – Park het Plateau\, Ganzepool 17\, Brunssum\, 6443 WZ\, Nederland
CATEGORIES:Routewerk
ATTACH;FMTTYPE=image/jpeg:https://mtbclub-discovery.nl/wp-content/uploads/2023/06/69.jpg
END:VEVENT
END:VCALENDAR