BEGIN:VCALENDAR
VERSION:2.0
PRODID:-//MTB Club Discovery - ECPv5.1.4//NONSGML v1.0//EN
CALSCALE:GREGORIAN
METHOD:PUBLISH
X-WR-CALNAME:MTB Club Discovery
X-ORIGINAL-URL:https://mtbclub-discovery.nl
X-WR-CALDESC:Evenementen voor MTB Club Discovery
BEGIN:VTIMEZONE
TZID:Europe/Amsterdam
BEGIN:DAYLIGHT
TZOFFSETFROM:+0100
TZOFFSETTO:+0200
TZNAME:CEST
DTSTART:20220327T010000
END:DAYLIGHT
BEGIN:STANDARD
TZOFFSETFROM:+0200
TZOFFSETTO:+0100
TZNAME:CET
DTSTART:20221030T010000
END:STANDARD
END:VTIMEZONE
BEGIN:VEVENT
DTSTART;TZID=Europe/Amsterdam:20221118T190000
DTEND;TZID=Europe/Amsterdam:20221118T210000
DTSTAMP:20260424T225810
CREATED:20221013T151102Z
LAST-MODIFIED:20221013T151305Z
UID:69181-1668798000-1668805200@mtbclub-discovery.nl
SUMMARY:Sleutelavond
DESCRIPTION:Op vrijdag 18 november organiseert Ritchie vanaf 19 uur een sleutelavond op Park Strijthagen. \n  \nJe mag je fiets meenemen om er gezamelijk aan te sleutelen of juist anderen helpen. Als je alleen voor de gezelligheid komt is dat ook prima. Dit alles onder het genot van een hapje en een drankje. \n  \nGraag aanmelden bij Ritchie ivm de hapjes en drankjes via zijn bericht in onze Facebookgroep of ritchie@mtbclub-discovery.nl \n
URL:https://mtbclub-discovery.nl/kalender/sleutelavond-4/
LOCATION:Park Strijthagen\, Hofstraat 5\, Landgraaf\, Limburg\, Nederland
CATEGORIES:Clubavond
END:VEVENT
END:VCALENDAR