BEGIN:VCALENDAR
VERSION:2.0
PRODID:-//MTB Club Discovery - ECPv5.1.4//NONSGML v1.0//EN
CALSCALE:GREGORIAN
METHOD:PUBLISH
X-WR-CALNAME:MTB Club Discovery
X-ORIGINAL-URL:https://mtbclub-discovery.nl
X-WR-CALDESC:Evenementen voor MTB Club Discovery
BEGIN:VTIMEZONE
TZID:Europe/Amsterdam
BEGIN:DAYLIGHT
TZOFFSETFROM:+0100
TZOFFSETTO:+0200
TZNAME:CEST
DTSTART:20170326T010000
END:DAYLIGHT
BEGIN:STANDARD
TZOFFSETFROM:+0200
TZOFFSETTO:+0100
TZNAME:CET
DTSTART:20171029T010000
END:STANDARD
END:VTIMEZONE
BEGIN:VEVENT
DTSTART;VALUE=DATE:20171125
DTEND;VALUE=DATE:20171127
DTSTAMP:20260426T041258
CREATED:20171110T075210Z
LAST-MODIFIED:20171114T151620Z
UID:67068-1511568000-1511740799@mtbclub-discovery.nl
SUMMARY:Sasuko testdagen Houffalize
DESCRIPTION:Test een Salsa\, Surly of Kona!\nGratis deelname op 25 & 26 november\, meer info op https://www.sasuko.nl/ \n
URL:https://mtbclub-discovery.nl/kalender/sasuko-testdagen-houffalize/
LOCATION:Houffalize\, Bonnerue\, Houffalize\, België
CATEGORIES:Beurs
END:VEVENT
END:VCALENDAR