BEGIN:VCALENDAR
VERSION:2.0
PRODID:-//MTB Club Discovery - ECPv5.1.4//NONSGML v1.0//EN
CALSCALE:GREGORIAN
METHOD:PUBLISH
X-WR-CALNAME:MTB Club Discovery
X-ORIGINAL-URL:https://mtbclub-discovery.nl
X-WR-CALDESC:Evenementen voor MTB Club Discovery
BEGIN:VTIMEZONE
TZID:Europe/Amsterdam
BEGIN:DAYLIGHT
TZOFFSETFROM:+0100
TZOFFSETTO:+0200
TZNAME:CEST
DTSTART:20220327T010000
END:DAYLIGHT
BEGIN:STANDARD
TZOFFSETFROM:+0200
TZOFFSETTO:+0100
TZNAME:CET
DTSTART:20221030T010000
END:STANDARD
END:VTIMEZONE
BEGIN:VEVENT
DTSTART;TZID=Europe/Amsterdam:20220305T090000
DTEND;TZID=Europe/Amsterdam:20220305T130000
DTSTAMP:20260425T202233
CREATED:20220304T134306Z
LAST-MODIFIED:20220304T134306Z
UID:69003-1646470800-1646485200@mtbclub-discovery.nl
SUMMARY:Routewerkochtend 3 Zeekoelen
DESCRIPTION:Zaterdag 5 maart gaan we weer werken aan de nieuwe trail bij de Zeekoelen. We verzamelen om 9 uur op de parkeerplaats van SV Langeberg en werken tot ongeveer 13 uur. \n  \nAlle hulp is welkom\, zelf schep en snoeimateriaal meenemen. \n
URL:https://mtbclub-discovery.nl/kalender/routewerkochtend-3-zeekoelen/
LOCATION:Langeberg\, Hendrick Avercamp 1\, Brunssum
CATEGORIES:Routewerk
END:VEVENT
END:VCALENDAR