BEGIN:VCALENDAR
VERSION:2.0
PRODID:-//MTB Club Discovery - ECPv5.1.4//NONSGML v1.0//EN
CALSCALE:GREGORIAN
METHOD:PUBLISH
X-WR-CALNAME:MTB Club Discovery
X-ORIGINAL-URL:https://mtbclub-discovery.nl
X-WR-CALDESC:Evenementen voor MTB Club Discovery
BEGIN:VTIMEZONE
TZID:Europe/Amsterdam
BEGIN:DAYLIGHT
TZOFFSETFROM:+0100
TZOFFSETTO:+0200
TZNAME:CEST
DTSTART:20240331T010000
END:DAYLIGHT
BEGIN:STANDARD
TZOFFSETFROM:+0200
TZOFFSETTO:+0100
TZNAME:CET
DTSTART:20241027T010000
END:STANDARD
END:VTIMEZONE
BEGIN:VEVENT
DTSTART;TZID=Europe/Amsterdam:20241102T090000
DTEND;TZID=Europe/Amsterdam:20241102T120000
DTSTAMP:20260423T104812
CREATED:20241014T111709Z
LAST-MODIFIED:20241101T140302Z
UID:69556-1730538000-1730548800@mtbclub-discovery.nl
SUMMARY:Routewerk Wilhelminaberg
DESCRIPTION:Op 2 november gaan we vanaf 9 uur werken op de Wilhelminaberg. \nWe verzamelen om 9 uur op Park Strijthagen en gaan vanuit daar naar de Wilhelminaberg om routepalen te plaatsen en het NK Parcours te herstellen. \nNa afloop bespreken we ideeën om de boomstammenafdaling (voormalige wortelafdaling) aantrekkelijker te maken. \n
URL:https://mtbclub-discovery.nl/kalender/routewerk-wilhelminaberg/
LOCATION:Park Strijthagen\, Hofstraat 5\, Landgraaf\, Limburg\, Nederland
CATEGORIES:Routewerk
END:VEVENT
END:VCALENDAR