BEGIN:VCALENDAR
VERSION:2.0
PRODID:-//MTB Club Discovery - ECPv5.1.4//NONSGML v1.0//EN
CALSCALE:GREGORIAN
METHOD:PUBLISH
X-WR-CALNAME:MTB Club Discovery
X-ORIGINAL-URL:https://mtbclub-discovery.nl
X-WR-CALDESC:Evenementen voor MTB Club Discovery
BEGIN:VTIMEZONE
TZID:Europe/Amsterdam
BEGIN:DAYLIGHT
TZOFFSETFROM:+0100
TZOFFSETTO:+0200
TZNAME:CEST
DTSTART:20250330T010000
END:DAYLIGHT
BEGIN:STANDARD
TZOFFSETFROM:+0200
TZOFFSETTO:+0100
TZNAME:CET
DTSTART:20251026T010000
END:STANDARD
END:VTIMEZONE
BEGIN:VEVENT
DTSTART;TZID=Europe/Amsterdam:20250503T090000
DTEND;TZID=Europe/Amsterdam:20250503T120000
DTSTAMP:20260423T004542
CREATED:20250430T084939Z
LAST-MODIFIED:20250430T084939Z
UID:69625-1746262800-1746273600@mtbclub-discovery.nl
SUMMARY:Routewerk Toeristenweg Brunssummerheide
DESCRIPTION:Op zaterdag 3 mei gaan we weer werken aan de trail langs de Toeristenweg op de Brunssummerheide. We gaan onder andere wat groot snoeiafval verplaatsen. \n  \nWe verzamelen om 9 uur op de onderste parkeerplaats op de Toeristenweg. \n  \nAlle hulp is wederom welkom! \n
URL:https://mtbclub-discovery.nl/kalender/routewerk-toeristenweg-brunssummerheide/
LOCATION:Onderste parkeerplaats Toeristenweg\, Nieuwenhagenerweg\, Brunssum\, Nederland
CATEGORIES:Routewerk
END:VEVENT
END:VCALENDAR