BEGIN:VCALENDAR
VERSION:2.0
PRODID:-//MTB Club Discovery - ECPv5.1.4//NONSGML v1.0//EN
CALSCALE:GREGORIAN
METHOD:PUBLISH
X-WR-CALNAME:MTB Club Discovery
X-ORIGINAL-URL:https://mtbclub-discovery.nl
X-WR-CALDESC:Evenementen voor MTB Club Discovery
BEGIN:VTIMEZONE
TZID:Europe/Amsterdam
BEGIN:DAYLIGHT
TZOFFSETFROM:+0100
TZOFFSETTO:+0200
TZNAME:CEST
DTSTART:20170326T010000
END:DAYLIGHT
BEGIN:STANDARD
TZOFFSETFROM:+0200
TZOFFSETTO:+0100
TZNAME:CET
DTSTART:20171029T010000
END:STANDARD
END:VTIMEZONE
BEGIN:VEVENT
DTSTART;TZID=Europe/Amsterdam:20170426T090000
DTEND;TZID=Europe/Amsterdam:20170426T120000
DTSTAMP:20260423T212616
CREATED:20170421T112748Z
LAST-MODIFIED:20170421T121846Z
UID:66531-1493197200-1493208000@mtbclub-discovery.nl
SUMMARY:Routewerk Schutterspark
DESCRIPTION:Op 26 april zullen diverse kleine werkzaamheden worden verricht aan de routes. Onder andere plaatsen van paaltjes bij het nieuwe klimpark bij het Schutterspark / Blote voetenpark\, dat boven onze route wordt gerealiseerd. \nWil je meehelpen\, meldt je dan even bij Joost of in de routewerk app-groep voor exacte datum en tijd. \n
URL:https://mtbclub-discovery.nl/kalender/routewerk-schutterspark/
CATEGORIES:Routewerk
END:VEVENT
END:VCALENDAR