BEGIN:VCALENDAR
VERSION:2.0
PRODID:-//MTB Club Discovery - ECPv5.1.4//NONSGML v1.0//EN
CALSCALE:GREGORIAN
METHOD:PUBLISH
X-WR-CALNAME:MTB Club Discovery
X-ORIGINAL-URL:https://mtbclub-discovery.nl
X-WR-CALDESC:Evenementen voor MTB Club Discovery
BEGIN:VTIMEZONE
TZID:Europe/Amsterdam
BEGIN:DAYLIGHT
TZOFFSETFROM:+0100
TZOFFSETTO:+0200
TZNAME:CEST
DTSTART:20250330T010000
END:DAYLIGHT
BEGIN:STANDARD
TZOFFSETFROM:+0200
TZOFFSETTO:+0100
TZNAME:CET
DTSTART:20251026T010000
END:STANDARD
END:VTIMEZONE
BEGIN:VEVENT
DTSTART;TZID=Europe/Amsterdam:20250104T090000
DTEND;TZID=Europe/Amsterdam:20250104T130000
DTSTAMP:20260423T102339
CREATED:20241213T154157Z
LAST-MODIFIED:20241213T154157Z
UID:69583-1735981200-1735995600@mtbclub-discovery.nl
SUMMARY:Routewerk Brunssummerheide
DESCRIPTION:Op 4 januari gaan we werken aan de route nabij het voormalige bezoekerscentrum op de Brunssummerheide. \n  \nVerzamelen om 9 uur op de parkeerplaats aan de Schaapskooiweg. \n  \nAlle hulp is welkom! \n
URL:https://mtbclub-discovery.nl/kalender/routewerk-brunssummerheide/
LOCATION:Bezoekerscentrum Brunssummerheide\, Schaapskooiweg 99\, Heerlen
CATEGORIES:Routewerk
END:VEVENT
END:VCALENDAR