BEGIN:VCALENDAR
VERSION:2.0
PRODID:-//MTB Club Discovery - ECPv5.1.4//NONSGML v1.0//EN
CALSCALE:GREGORIAN
METHOD:PUBLISH
X-WR-CALNAME:MTB Club Discovery
X-ORIGINAL-URL:https://mtbclub-discovery.nl
X-WR-CALDESC:Evenementen voor MTB Club Discovery
BEGIN:VTIMEZONE
TZID:Europe/Amsterdam
BEGIN:DAYLIGHT
TZOFFSETFROM:+0100
TZOFFSETTO:+0200
TZNAME:CEST
DTSTART:20230326T010000
END:DAYLIGHT
BEGIN:STANDARD
TZOFFSETFROM:+0200
TZOFFSETTO:+0100
TZNAME:CET
DTSTART:20231029T010000
END:STANDARD
END:VTIMEZONE
BEGIN:VEVENT
DTSTART;TZID=Europe/Amsterdam:20231202T090000
DTEND;TZID=Europe/Amsterdam:20231202T130000
DTSTAMP:20260424T075348
CREATED:20231124T143835Z
LAST-MODIFIED:20231201T145003Z
UID:69375-1701507600-1701522000@mtbclub-discovery.nl
SUMMARY:[Afgelast] Routewerk 2 december Rocktrail Roode Beekroute
DESCRIPTION:Helaas is het routewerk afgelast. \n  \nOp zaterdag 2 december gaan we werken aan de rocktrail op de Roode Beekroute (voor de oversteek van de Hoogenboschweg bij de Kattenkoelenvijvers). \nWe verzamelen om 9 uur op de parkeerplaats van de Kattenkoelenvijvers aan de Hoogenboschweg. \n
URL:https://mtbclub-discovery.nl/kalender/routewerk-2-december-rocktrail-roode-beekroute/
LOCATION:Kattekoelenvijvers\, Hoogenboschweg\, Brunssum\, Nederland
CATEGORIES:Routewerk
END:VEVENT
END:VCALENDAR