BEGIN:VCALENDAR
VERSION:2.0
PRODID:-//MTB Club Discovery - ECPv5.1.4//NONSGML v1.0//EN
CALSCALE:GREGORIAN
METHOD:PUBLISH
X-WR-CALNAME:MTB Club Discovery
X-ORIGINAL-URL:https://mtbclub-discovery.nl
X-WR-CALDESC:Evenementen voor MTB Club Discovery
BEGIN:VTIMEZONE
TZID:Europe/Amsterdam
BEGIN:DAYLIGHT
TZOFFSETFROM:+0100
TZOFFSETTO:+0200
TZNAME:CEST
DTSTART:20250330T010000
END:DAYLIGHT
BEGIN:STANDARD
TZOFFSETFROM:+0200
TZOFFSETTO:+0100
TZNAME:CET
DTSTART:20251026T010000
END:STANDARD
END:VTIMEZONE
BEGIN:VEVENT
DTSTART;TZID=Europe/Amsterdam:20250427T100000
DTEND;TZID=Europe/Amsterdam:20250427T140000
DTSTAMP:20260423T021515
CREATED:20250403T104031Z
LAST-MODIFIED:20250403T104031Z
UID:69620-1745748000-1745762400@mtbclub-discovery.nl
SUMMARY:RideOut Wormdal
DESCRIPTION:Op zondag 27 april organiseert voormalig Juniors045 trainer Raf een Enduro achtige ronde door het Wormdal. Je kunt technische tot zeer technische trails verwachten (oftewel steile shit) verdeeld over 30km en 700hm. \n  \nVertrek om 10 uur op de parkeerplaats van abdij Rolduc in Kerkrade. Aanmelden via de RideOuts appgroep is gewenst (zie de nieuwsbrief voor toegang) \n
URL:https://mtbclub-discovery.nl/kalender/rideout-wormdal/
LOCATION:Rolduc\, Heyendallaan 82\, Kerkrade\, Nederland
CATEGORIES:Clubtocht
END:VEVENT
END:VCALENDAR