BEGIN:VCALENDAR
VERSION:2.0
PRODID:-//MTB Club Discovery - ECPv5.1.4//NONSGML v1.0//EN
CALSCALE:GREGORIAN
METHOD:PUBLISH
X-WR-CALNAME:MTB Club Discovery
X-ORIGINAL-URL:https://mtbclub-discovery.nl
X-WR-CALDESC:Evenementen voor MTB Club Discovery
BEGIN:VTIMEZONE
TZID:Europe/Amsterdam
BEGIN:DAYLIGHT
TZOFFSETFROM:+0100
TZOFFSETTO:+0200
TZNAME:CEST
DTSTART:20210328T010000
END:DAYLIGHT
BEGIN:STANDARD
TZOFFSETFROM:+0200
TZOFFSETTO:+0100
TZNAME:CET
DTSTART:20211031T010000
END:STANDARD
END:VTIMEZONE
BEGIN:VEVENT
DTSTART;TZID=Europe/Amsterdam:20210423T193000
DTEND;TZID=Europe/Amsterdam:20210423T213000
DTSTAMP:20260426T035022
CREATED:20210204T150100Z
LAST-MODIFIED:20210318T141009Z
UID:68854-1619206200-1619213400@mtbclub-discovery.nl
SUMMARY:Online ALV 2021
DESCRIPTION:De ALV van 2021 zal online plaatsvinden en wel op 23 april. In deze ALV wordt teruggekeken naar de jaren 2019 en 2020 en vooruitgeblikt op 2021. \nAgenda: \n\n Opening en mededelingen jaarvergadering.\n\n* Huisregels en uitvoering online ALV \n* Ingekomen stukken \n\nVaststellen notulen 2019 & 2020\n\nDe notulen voor 2019 en 2020 worden vooraf gedeeld via de nieuwsbrief\, deze worden tijdens de vergadering niet inhoudelijk doorgenomen. Wel is er mogelijkheid tot vragen en wijzigingen\, zowel tekstueel als inhoudelijk. \n\n Jaarverslag 2019 & 2020\n\nJaarverslagen worden ook vooraf gedeeld via de nieuwsbrief en tijdens de vergadering op hoofdlijnen doorgenomen. Er is mogelijkheid voor het stellen van vragen. \n\n Financieel jaarverslag 2019 & 2020\n\nHet financieel jaarverslag wordt ook vooraf gedeeld via de nieuwsbrief en tijdens de vergadering is er mogelijkheid voor het stellen van vragen. \n\n Kascontrolecommissie 2019 & 2020\n\n Statutenwijziging:\n\nHet bestuur is voornemens de statuten actualiseren. Door de ontwikkelingen met betrekking tot de WBTR waarvoor ook statutenwijzigingen noodzakelijk zijn worden de reeds voorgenomen statutenwijzigingen vooruitgeschoven naar de ALV in 2022. \n\n Vaststelling contributie\n\nHet bestuur is voornemens de contributie niet te wijzigen. \n\n Bestuursverkiezing\n\nVolgens de statuten zijn alle bestuursleden aftredend (jaarlijks). \n\nAftredend Rik Mertens (interim secretaris)   –  niet herkiesbaar\nAftredend Juliën van Montfort (penningmeester)  –   herkiesbaar\nAftredend Rik Mertens (bestuurslid communicatie)   –   herkiesbaar\n Aftredend Lambert Valentijn (jeugdzaken)    –    Niet herkiesbaar\n Aftredend Olaf Donners (algemeen)    –    Niet herkiesbaar\n\nVoorstel samenstelling nieuw bestuur aan de vergadering: \nVoorzitter:                                        Vacant \nSecretaris:                                       Lambert Valentijn \nPenningmeester:                             Juliën van Montfort \nBestuurslid Communicatie:             Rik Mertens \nBestuurslid Jeugdzaken:                 Frank Vaasen \nAlgemeen bestuurslid:                    Michael Brookhuis \n\n Clubkleding\nOntwikkelingen MTB Routes Parkstad\n\n Discovery Juniors\n Discovery activiteiten\n W.V.T.T.K. & Rondvraag\n Sluiting\n\nVoor de ALV maken we gebruik van de applicatie Microsoft Teams. Het is verstandig deze applicatie voor de digitale bijeenkomst alvast te installeren op je computer\, tablet of telefoon. De link naar de vergadering zal gedeeld worden via de nieuwsbrief. De vergaderruimte zal 24 uur vantevoren worden geopend zodat je alvast kunt testen of je verbinding kunt maken. \n
URL:https://mtbclub-discovery.nl/kalender/online-alv-2021/
CATEGORIES:Jaarvergadering
END:VEVENT
END:VCALENDAR