BEGIN:VCALENDAR
VERSION:2.0
PRODID:-//MTB Club Discovery - ECPv5.1.4//NONSGML v1.0//EN
CALSCALE:GREGORIAN
METHOD:PUBLISH
X-WR-CALNAME:MTB Club Discovery
X-ORIGINAL-URL:https://mtbclub-discovery.nl
X-WR-CALDESC:Evenementen voor MTB Club Discovery
BEGIN:VTIMEZONE
TZID:Europe/Amsterdam
BEGIN:DAYLIGHT
TZOFFSETFROM:+0100
TZOFFSETTO:+0200
TZNAME:CEST
DTSTART:20210328T010000
END:DAYLIGHT
BEGIN:STANDARD
TZOFFSETFROM:+0200
TZOFFSETTO:+0100
TZNAME:CET
DTSTART:20211031T010000
END:STANDARD
END:VTIMEZONE
BEGIN:VEVENT
DTSTART;TZID=Europe/Amsterdam:20211023T100000
DTEND;TZID=Europe/Amsterdam:20211023T130000
DTSTAMP:20260425T173243
CREATED:20211017T133348Z
LAST-MODIFIED:20211017T133348Z
UID:68959-1634983200-1634994000@mtbclub-discovery.nl
SUMMARY:Onderhoud Heerlenroute 23 oktober
DESCRIPTION:Op 23 oktober gaan we onderhoud doen aan de afdaling van Imstenrade naar de John F. Kennedylaan in de Heerlenroute. Snoeien en de geul van de wateroverlast wegwerken. Daarna rijden we de met de bike de route verder af voor verder onderhoud. \nVerzamelen doen we om 10 uur op de Buldersweg bij de Corverstraat\, naast Parc Imstenrade. Kom met de bike zodat we nog een stukje van de route kunnen fietsen als we klaar zijn met deze afdaling. \n
URL:https://mtbclub-discovery.nl/kalender/onderhoud-heerlenroute-23-oktober/
LOCATION:Corverstraat\, Corverstraat\, Heerlen
CATEGORIES:Routewerk
END:VEVENT
END:VCALENDAR