BEGIN:VCALENDAR
VERSION:2.0
PRODID:-//MTB Club Discovery - ECPv5.1.4//NONSGML v1.0//EN
CALSCALE:GREGORIAN
METHOD:PUBLISH
X-WR-CALNAME:MTB Club Discovery
X-ORIGINAL-URL:https://mtbclub-discovery.nl
X-WR-CALDESC:Evenementen voor MTB Club Discovery
BEGIN:VTIMEZONE
TZID:Europe/Amsterdam
BEGIN:DAYLIGHT
TZOFFSETFROM:+0100
TZOFFSETTO:+0200
TZNAME:CEST
DTSTART:20250330T010000
END:DAYLIGHT
BEGIN:STANDARD
TZOFFSETFROM:+0200
TZOFFSETTO:+0100
TZNAME:CET
DTSTART:20251026T010000
END:STANDARD
END:VTIMEZONE
BEGIN:VEVENT
DTSTART;TZID=Europe/Amsterdam:20251228T100000
DTEND;TZID=Europe/Amsterdam:20251228T140000
DTSTAMP:20260422T134228
CREATED:20251127T143834Z
LAST-MODIFIED:20251127T143834Z
UID:69715-1766916000-1766930400@mtbclub-discovery.nl
SUMMARY:Oliebollentocht 2025
DESCRIPTION:Op zondag 28 december\, organiseren we weer de jaarlijkse oliebollentocht vanuit het Blotevoetenpark.\n\nStart om 10:00 uur vanaf de parkeerplaats bij het Blotevoetenpark voor een rit over onze eigen route(s). Rond 12:00 uur zijn we weer terug bij het park. \nDaarna hebben we tot ongeveer 14:00 uur een gezellig samenzijn bij het Blotevoetenpark met oliebollen\, soep\, vlaai en een (warm) drankje verzorgd door de club. Alleen deelnemen aan de rit of het samenzijn kan ook. \nVoor het samenzijn wel graag aanmelden vóór 21 december via deze link. \n
URL:https://mtbclub-discovery.nl/kalender/oliebollentocht-2025/
LOCATION:Parkeerplaats Blotevoetenpad\, Ganzepool 9a\, Brunssum\, Nederland
CATEGORIES:Clubtocht
END:VEVENT
END:VCALENDAR