BEGIN:VCALENDAR
VERSION:2.0
PRODID:-//MTB Club Discovery - ECPv5.1.4//NONSGML v1.0//EN
CALSCALE:GREGORIAN
METHOD:PUBLISH
X-WR-CALNAME:MTB Club Discovery
X-ORIGINAL-URL:https://mtbclub-discovery.nl
X-WR-CALDESC:Evenementen voor MTB Club Discovery
BEGIN:VTIMEZONE
TZID:Europe/Amsterdam
BEGIN:DAYLIGHT
TZOFFSETFROM:+0100
TZOFFSETTO:+0200
TZNAME:CEST
DTSTART:20240331T010000
END:DAYLIGHT
BEGIN:STANDARD
TZOFFSETFROM:+0200
TZOFFSETTO:+0100
TZNAME:CET
DTSTART:20241027T010000
END:STANDARD
END:VTIMEZONE
BEGIN:VEVENT
DTSTART;TZID=Europe/Amsterdam:20241229T100000
DTEND;TZID=Europe/Amsterdam:20241229T120000
DTSTAMP:20260423T091339
CREATED:20241213T153503Z
LAST-MODIFIED:20241213T153503Z
UID:69581-1735466400-1735473600@mtbclub-discovery.nl
SUMMARY:Oliebollentocht
DESCRIPTION:Op zondag 29 december organiseren we de jaarlijkse Oliebollentocht. Vertrek is om 10 uur bij Park het Plateau\, waar we rond 12 uur weer terugkeren voor een hapje\, drankje en samenkomst. \n  \nZoals gebruikelijk zorgen we dat iedereen de tocht op eigen snelheid kan rijden. \n  \nAlleen naar de samenkomst komen kan natuurlijk ook! \n  \nGraag aanmelden voor de samenkomst vóór 22 december via deze link. \n
URL:https://mtbclub-discovery.nl/kalender/oliebollentocht-2/
LOCATION:Klimbos – Park het Plateau\, Ganzepool 17\, Brunssum\, 6443 WZ\, Nederland
CATEGORIES:Clubtocht
END:VEVENT
END:VCALENDAR