BEGIN:VCALENDAR
VERSION:2.0
PRODID:-//MTB Club Discovery - ECPv5.1.4//NONSGML v1.0//EN
CALSCALE:GREGORIAN
METHOD:PUBLISH
X-WR-CALNAME:MTB Club Discovery
X-ORIGINAL-URL:https://mtbclub-discovery.nl
X-WR-CALDESC:Evenementen voor MTB Club Discovery
BEGIN:VTIMEZONE
TZID:Europe/Amsterdam
BEGIN:DAYLIGHT
TZOFFSETFROM:+0100
TZOFFSETTO:+0200
TZNAME:CEST
DTSTART:20210328T010000
END:DAYLIGHT
BEGIN:STANDARD
TZOFFSETFROM:+0200
TZOFFSETTO:+0100
TZNAME:CET
DTSTART:20211031T010000
END:STANDARD
END:VTIMEZONE
BEGIN:VEVENT
DTSTART;VALUE=DATE:20210911
DTEND;VALUE=DATE:20210913
DTSTAMP:20260425T202538
CREATED:20210910T143913Z
LAST-MODIFIED:20210910T143913Z
UID:68946-1631318400-1631491199@mtbclub-discovery.nl
SUMMARY:NK MTB Watersley
DESCRIPTION:In het weekend van 11 en 12 september is het NK MTB op Watersley in Sittard. \nMeer informatie over dit evenement is te vinden op nkmountainbike2021.nl \n
URL:https://mtbclub-discovery.nl/kalender/nk-mtb-watersley-2/
LOCATION:Watersley\, Watersley 31\, Sittard\, 6132 KA
CATEGORIES:Wedstrijd
END:VEVENT
END:VCALENDAR