BEGIN:VCALENDAR
VERSION:2.0
PRODID:-//MTB Club Discovery - ECPv5.1.4//NONSGML v1.0//EN
CALSCALE:GREGORIAN
METHOD:PUBLISH
X-WR-CALNAME:MTB Club Discovery
X-ORIGINAL-URL:https://mtbclub-discovery.nl
X-WR-CALDESC:Evenementen voor MTB Club Discovery
BEGIN:VTIMEZONE
TZID:Europe/Amsterdam
BEGIN:DAYLIGHT
TZOFFSETFROM:+0100
TZOFFSETTO:+0200
TZNAME:CEST
DTSTART:20250330T010000
END:DAYLIGHT
BEGIN:STANDARD
TZOFFSETFROM:+0200
TZOFFSETTO:+0100
TZNAME:CET
DTSTART:20251026T010000
END:STANDARD
END:VTIMEZONE
BEGIN:VEVENT
DTSTART;TZID=Europe/Amsterdam:20250816T100000
DTEND;TZID=Europe/Amsterdam:20250816T170000
DTSTAMP:20260422T182158
CREATED:20250725T111854Z
LAST-MODIFIED:20250725T111854Z
UID:69658-1755338400-1755363600@mtbclub-discovery.nl
SUMMARY:Marcel Beckers Memorial 2025
DESCRIPTION:Op Zaterdag 16 augustus organiseren we weer de Marcel Beckers memorial ride en BBQ als herinnering aan onze oud-voorzitter. \n  \nStart van de ride is om 10 uur op Park Strijthagen waar we vertrekken voor een rit door het Wormdal. \nOm 14 uur zijn we terug en start de BBQ. \nVoor deelname aan de BBQ is aanmelden voor 1 augustus noodzakelijk! Dit kan via de ride out appgroep of een mail naar dyondiscovery [@] gmail.com \nAlleen deelnemen aan de ride out of juist de BBQ is zeker ook mogelijk (voor de BBQ dus wel graag aanmelden). \n
URL:https://mtbclub-discovery.nl/kalender/marcel-beckers-memorial-2025/
LOCATION:Park Strijthagen\, Hofstraat 5\, Landgraaf\, Limburg\, Nederland
CATEGORIES:Club evenement,Clubtocht
END:VEVENT
END:VCALENDAR