BEGIN:VCALENDAR
VERSION:2.0
PRODID:-//MTB Club Discovery - ECPv5.1.4//NONSGML v1.0//EN
CALSCALE:GREGORIAN
METHOD:PUBLISH
X-WR-CALNAME:MTB Club Discovery
X-ORIGINAL-URL:https://mtbclub-discovery.nl
X-WR-CALDESC:Evenementen voor MTB Club Discovery
BEGIN:VTIMEZONE
TZID:Europe/Amsterdam
BEGIN:DAYLIGHT
TZOFFSETFROM:+0100
TZOFFSETTO:+0200
TZNAME:CEST
DTSTART:20170326T010000
END:DAYLIGHT
BEGIN:STANDARD
TZOFFSETFROM:+0200
TZOFFSETTO:+0100
TZNAME:CET
DTSTART:20171029T010000
END:STANDARD
END:VTIMEZONE
BEGIN:VEVENT
DTSTART;TZID=Europe/Amsterdam:20171008T083000
DTEND;TZID=Europe/Amsterdam:20171008T130000
DTSTAMP:20260424T140415
CREATED:20170817T112405Z
LAST-MODIFIED:20170817T112427Z
UID:66879-1507451400-1507467600@mtbclub-discovery.nl
SUMMARY:De hel van Zuid-Limburg
DESCRIPTION:Joe gaat op 8 oktober de Hel van Zuid Limburg rijden. Wie heeft er zin om mee te gaan? Joe rijdt de 50 km afstand. \nAfstemmen met Joe kan via het forum. \n
URL:https://mtbclub-discovery.nl/kalender/hel-zuid-limburg/
LOCATION:Alfa Sport\, Oirsbekerweg\, Oirsbeek\, Nederland
CATEGORIES:Tourtocht
END:VEVENT
END:VCALENDAR