BEGIN:VCALENDAR
VERSION:2.0
PRODID:-//MTB Club Discovery - ECPv5.1.4//NONSGML v1.0//EN
CALSCALE:GREGORIAN
METHOD:PUBLISH
X-WR-CALNAME:MTB Club Discovery
X-ORIGINAL-URL:https://mtbclub-discovery.nl
X-WR-CALDESC:Evenementen voor MTB Club Discovery
BEGIN:VTIMEZONE
TZID:Europe/Amsterdam
BEGIN:DAYLIGHT
TZOFFSETFROM:+0100
TZOFFSETTO:+0200
TZNAME:CEST
DTSTART:20220327T010000
END:DAYLIGHT
BEGIN:STANDARD
TZOFFSETFROM:+0200
TZOFFSETTO:+0100
TZNAME:CET
DTSTART:20221030T010000
END:STANDARD
END:VTIMEZONE
BEGIN:VEVENT
DTSTART;TZID=Europe/Amsterdam:20220319T110000
DTEND;TZID=Europe/Amsterdam:20220319T143000
DTSTAMP:20260425T164606
CREATED:20220211T115850Z
LAST-MODIFIED:20220211T115850Z
UID:68977-1647687600-1647700200@mtbclub-discovery.nl
SUMMARY:Discovery Trail Day: Opening Trailhub Strijthagen
DESCRIPTION:Graag nodigen we u uit voor de officiële opening van de Official Trailhub Strijthagen. Deze trailhub is verbonden aan Sportpark Strijthagen te Landgraaf. Strijthagen is de uitvalsbasis voor MTB Club Discovery. Jeugd uit Landgraaf en de wijde omgeving gaat van hieruit met de mountainbike op pad. De tocht begint steevast met het bikepark\, dat als een halsketting rondom de nabijgelegen voetbalvelden is aangelegd. De nieuwe trailhub is het startpunt voor de Strijthagen-route\, die eenvoudig gecombineerd kan worden met de Heerlen-\, Brunssummerheide- en Roode Beek-routes. MTB Club Discovery treedt richting MOZL op als sponsor namens het sportpark en weet zich daarbij enthousiast gesteund door de Gemeente Landgraaf. Beide partijen treden gezamenlijk op om de routes in de gemeente te verbeteren. MOZL is blij dat met Official Trailhub Strijthagen een nieuw steunpunt aan het mtb-routenetwerk in Zuid-Limburg is toegevoegd. De officiële opening vindt plaats op zaterdag 19 maart\, aanvang 11.00 uur. Aansluitend willen we nog een leuk clubactiviteit organiseren. Wie wil kan een rondje fietsen over de mtb-routes die vanaf de Official Trailhub gemakkelijk bereikbaar zijn\, te beginnen bij het bikepark. Adres:      Sportpark Strijthagen     Hofstraat 1     6372 CX  Landgraaf Er is ruim voldoende parkeergelegenheid. AanmeldingBent u bij de opening aanwezig\, laat dat dan s.v.p. weten via communicatie@mozl.nl. U kunt hier ook terecht voor eventuele vragen over het programma. Graag tot ziens op 19 maart. Namens de organisatie van de opening\, Klaas Bos en Lambert ValentijnMountainbike Ontwikkeling Zuid-LimburgMTB Club Discovery \n
URL:https://mtbclub-discovery.nl/kalender/discovery-trail-day-opening-trailhub-strijthagen/
LOCATION:Park Strijthagen\, Hofstraat 5\, Landgraaf\, Limburg\, Nederland
CATEGORIES:Club evenement
END:VEVENT
END:VCALENDAR