BEGIN:VCALENDAR
VERSION:2.0
PRODID:-//MTB Club Discovery - ECPv5.1.4//NONSGML v1.0//EN
CALSCALE:GREGORIAN
METHOD:PUBLISH
X-WR-CALNAME:MTB Club Discovery
X-ORIGINAL-URL:https://mtbclub-discovery.nl
X-WR-CALDESC:Evenementen voor MTB Club Discovery
BEGIN:VTIMEZONE
TZID:Europe/Amsterdam
BEGIN:DAYLIGHT
TZOFFSETFROM:+0100
TZOFFSETTO:+0200
TZNAME:CEST
DTSTART:20170326T010000
END:DAYLIGHT
BEGIN:STANDARD
TZOFFSETFROM:+0200
TZOFFSETTO:+0100
TZNAME:CET
DTSTART:20171029T010000
END:STANDARD
END:VTIMEZONE
BEGIN:VEVENT
DTSTART;TZID=Europe/Amsterdam:20170910T090000
DTEND;TZID=Europe/Amsterdam:20170910T143000
DTSTAMP:20260423T210815
CREATED:20170828T104106Z
LAST-MODIFIED:20170828T104521Z
UID:66899-1505034000-1505053800@mtbclub-discovery.nl
SUMMARY:Clubtocht Wehebachtal
DESCRIPTION:10 september gaan we hem weer rijden\, onze mooie klassieke clubtocht door de Noord Eifel. \n  \nVerzamelen om 8.45 uur bij de parkeerplaats onder Stuwdam Wehebachtalsperre aan het einde van de Nidegener Strasse\, Schevenhutte. \n  \nVertrek om 9.00 uur voor de tour van 60 – 70 kilometer en 1.000 hoogtemeters. We rijden ongeveer 5.5 uur\, met pauze. \n  \n-Joost \n
URL:https://mtbclub-discovery.nl/kalender/clubtocht-wehebachtal/
LOCATION:Wehebachtalsperre\, Nideggener Strasse 998\, Stolberg\, Duitsland
CATEGORIES:Clubtocht
END:VEVENT
END:VCALENDAR