BEGIN:VCALENDAR
VERSION:2.0
PRODID:-//MTB Club Discovery - ECPv5.1.4//NONSGML v1.0//EN
CALSCALE:GREGORIAN
METHOD:PUBLISH
X-WR-CALNAME:MTB Club Discovery
X-ORIGINAL-URL:https://mtbclub-discovery.nl
X-WR-CALDESC:Evenementen voor MTB Club Discovery
BEGIN:VTIMEZONE
TZID:Europe/Amsterdam
BEGIN:DAYLIGHT
TZOFFSETFROM:+0100
TZOFFSETTO:+0200
TZNAME:CEST
DTSTART:20230326T010000
END:DAYLIGHT
BEGIN:STANDARD
TZOFFSETFROM:+0200
TZOFFSETTO:+0100
TZNAME:CET
DTSTART:20231029T010000
END:STANDARD
END:VTIMEZONE
BEGIN:VEVENT
DTSTART;TZID=Europe/Amsterdam:20230410T100000
DTEND;TZID=Europe/Amsterdam:20230410T130000
DTSTAMP:20260424T183503
CREATED:20230116T114003Z
LAST-MODIFIED:20230403T140156Z
UID:69253-1681120800-1681131600@mtbclub-discovery.nl
SUMMARY:Clubtocht Sint Joost
DESCRIPTION:Maandag 10 april\, 2e paasdag\, laten de trainers van de Juniors046 graag aan de rest van de vereniging één van hun favoriete trainingsgebieden zien: Rondom Sint Joost. Hier zullen we een attractieve ronde rijden deels over de nieuwe attractieve MTB route van Montfoort. We starten bij café De Statie\, Rijksweg 2 in Maasbracht om 10 uur. \nAanmelden is zeer gewenst zodat er voor iedereen een stukje gebak is. Aanmelden kan hier. \n
URL:https://mtbclub-discovery.nl/kalender/clubtocht-sint-joost/
LOCATION:Café De Statie Maasbracht\, Rijksweg 2\, Maasbracht\, Nederland
CATEGORIES:Clubtocht
END:VEVENT
END:VCALENDAR