BEGIN:VCALENDAR
VERSION:2.0
PRODID:-//MTB Club Discovery - ECPv5.1.4//NONSGML v1.0//EN
CALSCALE:GREGORIAN
METHOD:PUBLISH
X-WR-CALNAME:MTB Club Discovery
X-ORIGINAL-URL:https://mtbclub-discovery.nl
X-WR-CALDESC:Evenementen voor MTB Club Discovery
BEGIN:VTIMEZONE
TZID:Europe/Amsterdam
BEGIN:DAYLIGHT
TZOFFSETFROM:+0100
TZOFFSETTO:+0200
TZNAME:CEST
DTSTART:20170326T010000
END:DAYLIGHT
BEGIN:STANDARD
TZOFFSETFROM:+0200
TZOFFSETTO:+0100
TZNAME:CET
DTSTART:20171029T010000
END:STANDARD
END:VTIMEZONE
BEGIN:VEVENT
DTSTART;TZID=Europe/Amsterdam:20170618T090000
DTEND;TZID=Europe/Amsterdam:20170618T160000
DTSTAMP:20260422T133652
CREATED:20170615T114814Z
LAST-MODIFIED:20170615T114828Z
UID:66691-1497776400-1497801600@mtbclub-discovery.nl
SUMMARY:Clubtocht Roetgen
DESCRIPTION:Komende zondag 18 juni organiseert Marcel een clubtocht in Roetgen (D). We gaan de bekende tocht rijden langs de waterkanalen\, zoals de Hasselbach. \nVoor velen is dit een klassieke tocht die je één keer per jaar gereden moet hebben. Dit is tevens een leuke voorbereiding voor de MegaMiler. \nHighligts zijn de singletracks met vele wortelpassages langs de Hasselbach.\nAfstand ong 50 km.\nduur 4-5 uur\nStart 09.00 uur parkeerplaats Schlebachbrucke in Roetgen.\nVertrek Park Strijthagen 08.00 uur met de auto. \nVoor degenen die rechtstreeks naar Roetgen gaan: Bundesstrasse door Roetgen volgen. Links afslaan bij sportzaak Intersport Plum\, hier de Grunepleistrasse helemaal afrijden tot parkeerplaats Schlebachbrucke. \nHoud rekening dat je tussen 1500-1600 uur pas weer thuis bent. \n
URL:https://mtbclub-discovery.nl/kalender/clubtocht-roetgen/
LOCATION:Parkeerplaats Schlebachbrucke Roetgen\, Grünepleistraße 76\, Roetgen\, 52159\, Duitsland
CATEGORIES:Clubtocht
END:VEVENT
END:VCALENDAR