BEGIN:VCALENDAR
VERSION:2.0
PRODID:-//MTB Club Discovery - ECPv5.1.4//NONSGML v1.0//EN
CALSCALE:GREGORIAN
METHOD:PUBLISH
X-WR-CALNAME:MTB Club Discovery
X-ORIGINAL-URL:https://mtbclub-discovery.nl
X-WR-CALDESC:Evenementen voor MTB Club Discovery
BEGIN:VTIMEZONE
TZID:Europe/Amsterdam
BEGIN:DAYLIGHT
TZOFFSETFROM:+0100
TZOFFSETTO:+0200
TZNAME:CEST
DTSTART:20170326T010000
END:DAYLIGHT
BEGIN:STANDARD
TZOFFSETFROM:+0200
TZOFFSETTO:+0100
TZNAME:CET
DTSTART:20171029T010000
END:STANDARD
END:VTIMEZONE
BEGIN:VEVENT
DTSTART;TZID=Europe/Amsterdam:20171022T090000
DTEND;TZID=Europe/Amsterdam:20171022T140000
DTSTAMP:20260425T040145
CREATED:20170930T105646Z
LAST-MODIFIED:20171012T111239Z
UID:66990-1508662800-1508680800@mtbclub-discovery.nl
SUMMARY:Clubtocht 22 oktober rondom Heerlen
DESCRIPTION:Clubtocht op 22 oktober met Joost. Doelstelling is om alle heuveltjes rondom Heerlen te pakken en zo zoveel mogelijk hoogtemeters te maken! \nVertrek om 9.00 uur op Park Strijthagen\, terug om 14.00 uur. \n
URL:https://mtbclub-discovery.nl/kalender/clubtocht-nog-keer-hoge-kempen/
LOCATION:Park Strijthagen\, Hofstraat 5\, Landgraaf\, Limburg\, Nederland
CATEGORIES:Clubtocht
END:VEVENT
END:VCALENDAR