BEGIN:VCALENDAR
VERSION:2.0
PRODID:-//MTB Club Discovery - ECPv5.1.4//NONSGML v1.0//EN
CALSCALE:GREGORIAN
METHOD:PUBLISH
X-WR-CALNAME:MTB Club Discovery
X-ORIGINAL-URL:https://mtbclub-discovery.nl
X-WR-CALDESC:Evenementen voor MTB Club Discovery
BEGIN:VTIMEZONE
TZID:Europe/Amsterdam
BEGIN:DAYLIGHT
TZOFFSETFROM:+0100
TZOFFSETTO:+0200
TZNAME:CEST
DTSTART:20250330T010000
END:DAYLIGHT
BEGIN:STANDARD
TZOFFSETFROM:+0200
TZOFFSETTO:+0100
TZNAME:CET
DTSTART:20251026T010000
END:STANDARD
END:VTIMEZONE
BEGIN:VEVENT
DTSTART;TZID=Europe/Amsterdam:20250504T100000
DTEND;TZID=Europe/Amsterdam:20250504T130000
DTSTAMP:20260422T230947
CREATED:20250430T085331Z
LAST-MODIFIED:20250430T085331Z
UID:69626-1746352800-1746363600@mtbclub-discovery.nl
SUMMARY:Clubtocht Nieuwstadt
DESCRIPTION:Op 4 mei is er een Ride Out vanuit Nieuwstadt\, waar we in een gebied gaan fietsen dat voor weinig leden bekend is. De afstand is +/- 50km en we rijden verrassende trails en paadjes. \n  \nVertrek is om 10 uur\, locatie wordt gedeeld in onze Ride Outs appgroep. Na afloop is er koffie en vlaai. \n
URL:https://mtbclub-discovery.nl/kalender/clubtocht-nieuwstadt/
CATEGORIES:Clubtocht
END:VEVENT
END:VCALENDAR