BEGIN:VCALENDAR
VERSION:2.0
PRODID:-//MTB Club Discovery - ECPv5.1.4//NONSGML v1.0//EN
CALSCALE:GREGORIAN
METHOD:PUBLISH
X-WR-CALNAME:MTB Club Discovery
X-ORIGINAL-URL:https://mtbclub-discovery.nl
X-WR-CALDESC:Evenementen voor MTB Club Discovery
BEGIN:VTIMEZONE
TZID:Europe/Amsterdam
BEGIN:DAYLIGHT
TZOFFSETFROM:+0100
TZOFFSETTO:+0200
TZNAME:CEST
DTSTART:20170326T010000
END:DAYLIGHT
BEGIN:STANDARD
TZOFFSETFROM:+0200
TZOFFSETTO:+0100
TZNAME:CET
DTSTART:20171029T010000
END:STANDARD
END:VTIMEZONE
BEGIN:VEVENT
DTSTART;TZID=Europe/Amsterdam:20170408T080000
DTEND;TZID=Europe/Amsterdam:20170408T140000
DTSTAMP:20260424T064359
CREATED:20170406T113954Z
LAST-MODIFIED:20170406T113954Z
UID:66394-1491638400-1491660000@mtbclub-discovery.nl
SUMMARY:Clubtocht MTB Route Malmedy-Butgenbach
DESCRIPTION:In de Hoge Venen/Oostkantons lopen een aantal vaste MTB Marathonroute’s die zijn uitgezet door 02-bikers.\nHet lijkt Raymon leuk om met een groepje hier de eerste variant van te rijden (Malmedy-Butgenbach-Malmedy)\nDe route heeft een Marathon/XC-karakter. Het zal een sportief ritje worden (stevig doortrappen\, maar geen race). \nDatum: Zaterdag 8 april\nTotale lengte: 66KM\nHoogtemeters: 1300 \nVertrektijd en locatie:\n8.00u\,parkeerplaats Sportpark Strijthagen\nOf:\n9.00u\nParkeerplaats bij de kerk in Elsenborn.\nWirtzfelderstrasse. (4750\, Butgenbach) \nDe weersvoorpellingen zien er goed uit voor zaterdag. Mocht je interesse hebben laat dan even van je horen via PB op het forum naar  RaymonHeythuysen. \n
URL:https://mtbclub-discovery.nl/kalender/clubtocht-mtb-route-malmedy-butgenbach/
LOCATION:Park Strijthagen\, Hofstraat 5\, Landgraaf\, Limburg\, Nederland
CATEGORIES:Clubtocht
END:VEVENT
END:VCALENDAR