BEGIN:VCALENDAR
VERSION:2.0
PRODID:-//MTB Club Discovery - ECPv5.1.4//NONSGML v1.0//EN
CALSCALE:GREGORIAN
METHOD:PUBLISH
X-WR-CALNAME:MTB Club Discovery
X-ORIGINAL-URL:https://mtbclub-discovery.nl
X-WR-CALDESC:Evenementen voor MTB Club Discovery
BEGIN:VTIMEZONE
TZID:Europe/Amsterdam
BEGIN:DAYLIGHT
TZOFFSETFROM:+0100
TZOFFSETTO:+0200
TZNAME:CEST
DTSTART:20170326T010000
END:DAYLIGHT
BEGIN:STANDARD
TZOFFSETFROM:+0200
TZOFFSETTO:+0100
TZNAME:CET
DTSTART:20171029T010000
END:STANDARD
END:VTIMEZONE
BEGIN:VEVENT
DTSTART;TZID=Europe/Amsterdam:20171001T090000
DTEND;TZID=Europe/Amsterdam:20171001T140000
DTSTAMP:20260424T110134
CREATED:20170828T110354Z
LAST-MODIFIED:20170828T110416Z
UID:66904-1506848400-1506866400@mtbclub-discovery.nl
SUMMARY:Clubtocht Hoge Kempen
DESCRIPTION:1 oktober organiseert Jeffrey weer een clubtocht op de Hoge Kempen\, ditmaal gaan we kennis maken met een ander deel van dit mooie natuurpark. \nWe starten om 9.00 uur bij het veer in Berg aan de Maas en rijden recreatief tempo tot ongeveer 14.00 uur. Onderweg maken we een koffiepauze. \nGraag aanmelden via het forum. \n-Jeffrey \n
URL:https://mtbclub-discovery.nl/kalender/clubtocht-hoge-kempen/
LOCATION:Veer Berg aan de Maas\, Berger Maasstraat\, Berg aan de Maas\, Nederland
CATEGORIES:Clubtocht
END:VEVENT
END:VCALENDAR