BEGIN:VCALENDAR
VERSION:2.0
PRODID:-//MTB Club Discovery - ECPv5.1.4//NONSGML v1.0//EN
CALSCALE:GREGORIAN
METHOD:PUBLISH
X-WR-CALNAME:MTB Club Discovery
X-ORIGINAL-URL:https://mtbclub-discovery.nl
X-WR-CALDESC:Evenementen voor MTB Club Discovery
BEGIN:VTIMEZONE
TZID:Europe/Amsterdam
BEGIN:DAYLIGHT
TZOFFSETFROM:+0100
TZOFFSETTO:+0200
TZNAME:CEST
DTSTART:20170326T010000
END:DAYLIGHT
BEGIN:STANDARD
TZOFFSETFROM:+0200
TZOFFSETTO:+0100
TZNAME:CET
DTSTART:20171029T010000
END:STANDARD
END:VTIMEZONE
BEGIN:VEVENT
DTSTART;TZID=Europe/Amsterdam:20171105T093000
DTEND;TZID=Europe/Amsterdam:20171105T130000
DTSTAMP:20260425T130124
CREATED:20171025T112432Z
LAST-MODIFIED:20171025T112432Z
UID:67030-1509874200-1509886800@mtbclub-discovery.nl
SUMMARY:Clubtocht Berg
DESCRIPTION:Olaf organiseert op 5 november een clubtocht vanuit Berg. Hij zal de groep meenemen over de beste paadjes die in de winterperiode minder last hebben van modder. \n  \nWe starten om 09.30 uur en zijn rond 13.00 uur terug in Berg en Terblijt. \n
URL:https://mtbclub-discovery.nl/kalender/clubtocht-berg/
LOCATION:Cafe t Voske\, Grotestraat 8\, Berg en Terblijt\, 6325 EC\, Nederland
CATEGORIES:Clubtocht
END:VEVENT
END:VCALENDAR