BEGIN:VCALENDAR
VERSION:2.0
PRODID:-//MTB Club Discovery - ECPv5.1.4//NONSGML v1.0//EN
CALSCALE:GREGORIAN
METHOD:PUBLISH
X-WR-CALNAME:MTB Club Discovery
X-ORIGINAL-URL:https://mtbclub-discovery.nl
X-WR-CALDESC:Evenementen voor MTB Club Discovery
BEGIN:VTIMEZONE
TZID:Europe/Amsterdam
BEGIN:DAYLIGHT
TZOFFSETFROM:+0100
TZOFFSETTO:+0200
TZNAME:CEST
DTSTART:20250330T010000
END:DAYLIGHT
BEGIN:STANDARD
TZOFFSETFROM:+0200
TZOFFSETTO:+0100
TZNAME:CET
DTSTART:20251026T010000
END:STANDARD
END:VTIMEZONE
BEGIN:VEVENT
DTSTART;TZID=Europe/Amsterdam:20251005T100000
DTEND;TZID=Europe/Amsterdam:20251005T140000
DTSTAMP:20260422T165742
CREATED:20250905T093408Z
LAST-MODIFIED:20250905T093519Z
UID:69661-1759658400-1759672800@mtbclub-discovery.nl
SUMMARY:Clubtocht Beekdaelen en omstreken
DESCRIPTION:Op zondag 5 oktober organiseert Nico een clubtocht door Beekdaelen. De start is om 10 uur vanaf de parkeerplaats van Gitek in Nuth\, Leeuwerikstraat 2. \n  \nNa 30 kilometer is er een koffiepauze bij Mareveld in Schinnen en kijken we of we nog een lus van 16 km of 31 km rijden. Opsplitsen kan evt. ook. \n  \nLaat via de Ride Outs whatsapp groep (zie nieuwsbrief) weten dat je mee wilt. \n
URL:https://mtbclub-discovery.nl/kalender/clubtocht-beekdaelen-en-omstreken/
LOCATION:Gitek Sport\, Leeuwerikstraat 2\, Nuth\, 6361 VM\, Nederland
END:VEVENT
END:VCALENDAR