BEGIN:VCALENDAR
VERSION:2.0
PRODID:-//MTB Club Discovery - ECPv5.1.4//NONSGML v1.0//EN
CALSCALE:GREGORIAN
METHOD:PUBLISH
X-WR-CALNAME:MTB Club Discovery
X-ORIGINAL-URL:https://mtbclub-discovery.nl
X-WR-CALDESC:Evenementen voor MTB Club Discovery
BEGIN:VTIMEZONE
TZID:Europe/Amsterdam
BEGIN:DAYLIGHT
TZOFFSETFROM:+0100
TZOFFSETTO:+0200
TZNAME:CEST
DTSTART:20170326T010000
END:DAYLIGHT
BEGIN:STANDARD
TZOFFSETFROM:+0200
TZOFFSETTO:+0100
TZNAME:CET
DTSTART:20171029T010000
END:STANDARD
END:VTIMEZONE
BEGIN:VEVENT
DTSTART;TZID=Europe/Amsterdam:20170903T090000
DTEND;TZID=Europe/Amsterdam:20170903T130000
DTSTAMP:20260423T192908
CREATED:20170831T112607Z
LAST-MODIFIED:20170831T112607Z
UID:66911-1504429200-1504443600@mtbclub-discovery.nl
SUMMARY:Clubtocht 3 september
DESCRIPTION:Vorige week waren er veel andere opties voor de MTB\, toch was er een clubtocht die van Park Strijthagen naar Vaals leidde. Waar gaan we deze week heen? \nSuggesties zijn welkom via het forum! \nWe vertrekken in ieder geval om 9.00 uur vanaf Park Strijthagen en rijden een recreatief tempo. \n
URL:https://mtbclub-discovery.nl/kalender/clubtocht-3-september/
LOCATION:Park Strijthagen\, Hofstraat 5\, Landgraaf\, Limburg\, Nederland
CATEGORIES:Clubtocht
END:VEVENT
END:VCALENDAR