BEGIN:VCALENDAR
VERSION:2.0
PRODID:-//MTB Club Discovery - ECPv5.1.4//NONSGML v1.0//EN
CALSCALE:GREGORIAN
METHOD:PUBLISH
X-WR-CALNAME:MTB Club Discovery
X-ORIGINAL-URL:https://mtbclub-discovery.nl
X-WR-CALDESC:Evenementen voor MTB Club Discovery
BEGIN:VTIMEZONE
TZID:Europe/Amsterdam
BEGIN:DAYLIGHT
TZOFFSETFROM:+0100
TZOFFSETTO:+0200
TZNAME:CEST
DTSTART:20170326T010000
END:DAYLIGHT
BEGIN:STANDARD
TZOFFSETFROM:+0200
TZOFFSETTO:+0100
TZNAME:CET
DTSTART:20171029T010000
END:STANDARD
END:VTIMEZONE
BEGIN:VEVENT
DTSTART;TZID=Europe/Amsterdam:20170423T090000
DTEND;TZID=Europe/Amsterdam:20170423T140000
DTSTAMP:20260423T225807
CREATED:20170421T111621Z
LAST-MODIFIED:20170421T111621Z
UID:66529-1492938000-1492956000@mtbclub-discovery.nl
SUMMARY:Clubtocht 23 april
DESCRIPTION:Onze wekelijkse Discovery zondagclubtocht. Verzamelen om 9.00 uur op Park Strijthagen\, suggesties voor routes zijn welkom via het forum! \nTempo: Recreatief\, samen uit samen thuis. \n
URL:https://mtbclub-discovery.nl/kalender/clubtocht-23-april/
LOCATION:Park Strijthagen\, Hofstraat 5\, Landgraaf\, Limburg\, Nederland
CATEGORIES:Clubtocht
END:VEVENT
END:VCALENDAR