BEGIN:VCALENDAR
VERSION:2.0
PRODID:-//MTB Club Discovery - ECPv5.1.4//NONSGML v1.0//EN
CALSCALE:GREGORIAN
METHOD:PUBLISH
X-WR-CALNAME:MTB Club Discovery
X-ORIGINAL-URL:https://mtbclub-discovery.nl
X-WR-CALDESC:Evenementen voor MTB Club Discovery
BEGIN:VTIMEZONE
TZID:Europe/Amsterdam
BEGIN:DAYLIGHT
TZOFFSETFROM:+0100
TZOFFSETTO:+0200
TZNAME:CEST
DTSTART:20170326T010000
END:DAYLIGHT
BEGIN:STANDARD
TZOFFSETFROM:+0200
TZOFFSETTO:+0100
TZNAME:CET
DTSTART:20171029T010000
END:STANDARD
END:VTIMEZONE
BEGIN:VEVENT
DTSTART;TZID=Europe/Amsterdam:20170917T090000
DTEND;TZID=Europe/Amsterdam:20170917T130000
DTSTAMP:20260424T032414
CREATED:20170914T104952Z
LAST-MODIFIED:20170914T104952Z
UID:66925-1505638800-1505653200@mtbclub-discovery.nl
SUMMARY:Clubtocht 17 september
DESCRIPTION:Na de rit bij de Wehebachtalsperre van vorige week\, is er deze week weer een clubtocht dicht bij huis. \nStartplek is Park Strijthagen  en we beginnen om 9.00 uur. Suggesties voor een route zijn welkom via het forum! \n
URL:https://mtbclub-discovery.nl/kalender/clubtocht-17-september/
LOCATION:Park Strijthagen\, Hofstraat 5\, Landgraaf\, Limburg\, Nederland
CATEGORIES:Clubtocht
END:VEVENT
END:VCALENDAR