BEGIN:VCALENDAR
VERSION:2.0
PRODID:-//MTB Club Discovery - ECPv5.1.4//NONSGML v1.0//EN
CALSCALE:GREGORIAN
METHOD:PUBLISH
X-WR-CALNAME:MTB Club Discovery
X-ORIGINAL-URL:https://mtbclub-discovery.nl
X-WR-CALDESC:Evenementen voor MTB Club Discovery
BEGIN:VTIMEZONE
TZID:Europe/Amsterdam
BEGIN:DAYLIGHT
TZOFFSETFROM:+0100
TZOFFSETTO:+0200
TZNAME:CEST
DTSTART:20170326T010000
END:DAYLIGHT
BEGIN:STANDARD
TZOFFSETFROM:+0200
TZOFFSETTO:+0100
TZNAME:CET
DTSTART:20171029T010000
END:STANDARD
END:VTIMEZONE
BEGIN:VEVENT
DTSTART;TZID=Europe/Amsterdam:20171015T090000
DTEND;TZID=Europe/Amsterdam:20171015T130000
DTSTAMP:20260424T235930
CREATED:20171011T114451Z
LAST-MODIFIED:20171012T112226Z
UID:67006-1508058000-1508072400@mtbclub-discovery.nl
SUMMARY:Clubtocht 15 oktober rondom Landgraaf
DESCRIPTION:Herfsttrailtocht door de omgeving van Landgraaf met Joost. \nStart op Park Strijthagen om 9.00 uur\, terug rond 13.00 uur. \n
URL:https://mtbclub-discovery.nl/kalender/clubtocht-15-oktober/
LOCATION:Park Strijthagen\, Hofstraat 5\, Landgraaf\, Limburg\, Nederland
CATEGORIES:Clubtocht
END:VEVENT
END:VCALENDAR