BEGIN:VCALENDAR
VERSION:2.0
PRODID:-//MTB Club Discovery - ECPv5.1.4//NONSGML v1.0//EN
CALSCALE:GREGORIAN
METHOD:PUBLISH
X-WR-CALNAME:MTB Club Discovery
X-ORIGINAL-URL:https://mtbclub-discovery.nl
X-WR-CALDESC:Evenementen voor MTB Club Discovery
BEGIN:VTIMEZONE
TZID:Europe/Amsterdam
BEGIN:DAYLIGHT
TZOFFSETFROM:+0100
TZOFFSETTO:+0200
TZNAME:CEST
DTSTART:20170326T010000
END:DAYLIGHT
BEGIN:STANDARD
TZOFFSETFROM:+0200
TZOFFSETTO:+0100
TZNAME:CET
DTSTART:20171029T010000
END:STANDARD
END:VTIMEZONE
BEGIN:VEVENT
DTSTART;TZID=Europe/Amsterdam:20171112T090000
DTEND;TZID=Europe/Amsterdam:20171112T130000
DTSTAMP:20260425T204411
CREATED:20171108T111536Z
LAST-MODIFIED:20171108T111602Z
UID:67065-1510477200-1510491600@mtbclub-discovery.nl
SUMMARY:Clubtocht 12 november
DESCRIPTION:Zondagochtend clubtocht vanaf Park Strijthagen. Vertrek om 9.00 uur\, suggesties voor een route zijn welkom via het forum! \n
URL:https://mtbclub-discovery.nl/kalender/clubtocht-12-november/
LOCATION:Park Strijthagen\, Hofstraat 5\, Landgraaf\, Limburg\, Nederland
END:VEVENT
END:VCALENDAR