BEGIN:VCALENDAR
VERSION:2.0
PRODID:-//MTB Club Discovery - ECPv5.1.4//NONSGML v1.0//EN
CALSCALE:GREGORIAN
METHOD:PUBLISH
X-WR-CALNAME:MTB Club Discovery
X-ORIGINAL-URL:https://mtbclub-discovery.nl
X-WR-CALDESC:Evenementen voor MTB Club Discovery
BEGIN:VTIMEZONE
TZID:Europe/Amsterdam
BEGIN:DAYLIGHT
TZOFFSETFROM:+0100
TZOFFSETTO:+0200
TZNAME:CEST
DTSTART:20170326T010000
END:DAYLIGHT
BEGIN:STANDARD
TZOFFSETFROM:+0200
TZOFFSETTO:+0100
TZNAME:CET
DTSTART:20171029T010000
END:STANDARD
END:VTIMEZONE
BEGIN:VEVENT
DTSTART;TZID=Europe/Amsterdam:20170611T090000
DTEND;TZID=Europe/Amsterdam:20170611T130000
DTSTAMP:20260422T182229
CREATED:20170608T105759Z
LAST-MODIFIED:20170608T110403Z
UID:66681-1497171600-1497186000@mtbclub-discovery.nl
SUMMARY:Clubtocht 11 juni: Rondje NK parcours
DESCRIPTION:11 juni is er weer een clubtocht\, suggesties voor routes zijn welkom via het forum! Waarschijnlijk starten we op Park Strijthagen en beginnen we met een rondje NK Parcours\, aangezien er een aantal wedstrijdrijders de zondag na Limburgs Mooiste al willen komen oefenen en even de weg moeten worden gewezen! \n
URL:https://mtbclub-discovery.nl/kalender/clubtocht-11-juni-rondje-nk-parcours/
LOCATION:Park Strijthagen\, Hofstraat 5\, Landgraaf\, Limburg\, Nederland
CATEGORIES:Clubtocht
END:VEVENT
END:VCALENDAR