BEGIN:VCALENDAR
VERSION:2.0
PRODID:-//MTB Club Discovery - ECPv5.1.4//NONSGML v1.0//EN
CALSCALE:GREGORIAN
METHOD:PUBLISH
X-WR-CALNAME:MTB Club Discovery
X-ORIGINAL-URL:https://mtbclub-discovery.nl
X-WR-CALDESC:Evenementen voor MTB Club Discovery
BEGIN:VTIMEZONE
TZID:Europe/Amsterdam
BEGIN:DAYLIGHT
TZOFFSETFROM:+0100
TZOFFSETTO:+0200
TZNAME:CEST
DTSTART:20170326T010000
END:DAYLIGHT
BEGIN:STANDARD
TZOFFSETFROM:+0200
TZOFFSETTO:+0100
TZNAME:CET
DTSTART:20171029T010000
END:STANDARD
END:VTIMEZONE
BEGIN:VEVENT
DTSTART;TZID=Europe/Amsterdam:20171110T193000
DTEND;TZID=Europe/Amsterdam:20171110T213000
DTSTAMP:20260425T173044
CREATED:20171025T121106Z
LAST-MODIFIED:20171025T121106Z
UID:67031-1510342200-1510349400@mtbclub-discovery.nl
SUMMARY:Clubavond: Sleutelen aan je bike
DESCRIPTION:Op vrijdagavond 10 november organiseren Dyon en Ralph een sleutelavond. \nOnderwerp: Wisselen / onderhouden achterblok\, ketting\, voorblad en vernieuwen remblokken. \nWat moet je meenemen? \n\nDeken / zeil zodat we de ruimte netjes achter laten\nIndien mogelijk een bike standaard\nGereedschap en materialen\nJe bike\n\nWe starten om 19.30 op Park Strijthagen\, laat via het forum even weten als je aanwezig bent. \n  \nKijkers zijn natuurlijk ook welkom! \n
URL:https://mtbclub-discovery.nl/kalender/clubavond-sleutelen-aan-bike/
LOCATION:Park Strijthagen\, Hofstraat 5\, Landgraaf\, Limburg\, Nederland
CATEGORIES:Clubavond
END:VEVENT
END:VCALENDAR