BEGIN:VCALENDAR
VERSION:2.0
PRODID:-//MTB Club Discovery - ECPv5.1.4//NONSGML v1.0//EN
CALSCALE:GREGORIAN
METHOD:PUBLISH
X-WR-CALNAME:MTB Club Discovery
X-ORIGINAL-URL:https://mtbclub-discovery.nl
X-WR-CALDESC:Evenementen voor MTB Club Discovery
BEGIN:VTIMEZONE
TZID:Europe/Amsterdam
BEGIN:DAYLIGHT
TZOFFSETFROM:+0100
TZOFFSETTO:+0200
TZNAME:CEST
DTSTART:20230326T010000
END:DAYLIGHT
BEGIN:STANDARD
TZOFFSETFROM:+0200
TZOFFSETTO:+0100
TZNAME:CET
DTSTART:20231029T010000
END:STANDARD
END:VTIMEZONE
BEGIN:VEVENT
DTSTART;TZID=Europe/Amsterdam:20230830T193000
DTEND;TZID=Europe/Amsterdam:20230830T213000
DTSTAMP:20260424T122417
CREATED:20230714T143251Z
LAST-MODIFIED:20230714T143251Z
UID:69336-1693423800-1693431000@mtbclub-discovery.nl
SUMMARY:Clubavond routewerk
DESCRIPTION:Op woensdagavond 30 augustus om 19.30 uur is er op Park Strijthagen weer een bijeenkomst over het routewerk en hoe we dit verder willen aanpakken na het stoppen van de trailmasters. \n  \nAlle leden zijn uitgenodigd en geïnteresseerden om deel te nemen aan het routewerk zijn uitgenodigd. \n
URL:https://mtbclub-discovery.nl/kalender/clubavond-routewerk/
LOCATION:Park Strijthagen\, Hofstraat 5\, Landgraaf\, Limburg\, Nederland
CATEGORIES:Clubavond,Routewerk
END:VEVENT
END:VCALENDAR