BEGIN:VCALENDAR
VERSION:2.0
PRODID:-//MTB Club Discovery - ECPv5.1.4//NONSGML v1.0//EN
CALSCALE:GREGORIAN
METHOD:PUBLISH
X-WR-CALNAME:MTB Club Discovery
X-ORIGINAL-URL:https://mtbclub-discovery.nl
X-WR-CALDESC:Evenementen voor MTB Club Discovery
BEGIN:VTIMEZONE
TZID:Europe/Amsterdam
BEGIN:DAYLIGHT
TZOFFSETFROM:+0100
TZOFFSETTO:+0200
TZNAME:CEST
DTSTART:20210328T010000
END:DAYLIGHT
BEGIN:STANDARD
TZOFFSETFROM:+0200
TZOFFSETTO:+0100
TZNAME:CET
DTSTART:20211031T010000
END:STANDARD
END:VTIMEZONE
BEGIN:VEVENT
DTSTART;TZID=Europe/Amsterdam:20211001T200000
DTEND;TZID=Europe/Amsterdam:20211001T213000
DTSTAMP:20260425T185759
CREATED:20210902T144616Z
LAST-MODIFIED:20210902T144616Z
UID:68932-1633118400-1633123800@mtbclub-discovery.nl
SUMMARY:Clubavond Routes
DESCRIPTION:Op vrijdagavond 1 oktober organiseert Trailmaster Joost een clubavond over de Parkstad Routes. We praten over nieuwe ontwikkelingen\, organisatie van onderhoud\, Bikepark Hendrik en Bikepark Strijthagen en wat er verder ter tafel komt. \nIedereen die nieuwsgierig is wat zich achter de schermen afspeelt van de routes of interesse heeft om in de toekomst mee te werken aan de routes en kennis wil maken met de crewleden is welkom! \nStart om 20 uur \nLocatie Park Strijthagen. \n
URL:https://mtbclub-discovery.nl/kalender/clubavond-routes/
LOCATION:Park Strijthagen\, Hofstraat 5\, Landgraaf\, Limburg\, Nederland
CATEGORIES:Clubavond
END:VEVENT
END:VCALENDAR