BEGIN:VCALENDAR
VERSION:2.0
PRODID:-//MTB Club Discovery - ECPv5.1.4//NONSGML v1.0//EN
CALSCALE:GREGORIAN
METHOD:PUBLISH
X-WR-CALNAME:MTB Club Discovery
X-ORIGINAL-URL:https://mtbclub-discovery.nl
X-WR-CALDESC:Evenementen voor MTB Club Discovery
BEGIN:VTIMEZONE
TZID:Europe/Amsterdam
BEGIN:DAYLIGHT
TZOFFSETFROM:+0100
TZOFFSETTO:+0200
TZNAME:CEST
DTSTART:20230326T010000
END:DAYLIGHT
BEGIN:STANDARD
TZOFFSETFROM:+0200
TZOFFSETTO:+0100
TZNAME:CET
DTSTART:20231029T010000
END:STANDARD
END:VTIMEZONE
BEGIN:VEVENT
DTSTART;TZID=Europe/Amsterdam:20230605T193000
DTEND;TZID=Europe/Amsterdam:20230605T213000
DTSTAMP:20260424T170301
CREATED:20230526T141338Z
LAST-MODIFIED:20230526T141338Z
UID:69326-1685993400-1686000600@mtbclub-discovery.nl
SUMMARY:Clubavond Routes
DESCRIPTION:Op maandag 5 juni organiseren we vanaf 19.30 uur een clubavond om met elkaar gedachten uit te wisselen over de ontwikkelingen rondom het onderhoud van onze routes. \nDeze clubavond zal plaatsvinden op Park Strijthagen. \n
URL:https://mtbclub-discovery.nl/kalender/clubavond-routes-2/
LOCATION:Park Strijthagen\, Hofstraat 5\, Landgraaf\, Limburg\, Nederland
CATEGORIES:Clubavond
END:VEVENT
END:VCALENDAR