BEGIN:VCALENDAR
VERSION:2.0
PRODID:-//MTB Club Discovery - ECPv5.1.4//NONSGML v1.0//EN
CALSCALE:GREGORIAN
METHOD:PUBLISH
X-WR-CALNAME:MTB Club Discovery
X-ORIGINAL-URL:https://mtbclub-discovery.nl
X-WR-CALDESC:Evenementen voor MTB Club Discovery
BEGIN:VTIMEZONE
TZID:Europe/Amsterdam
BEGIN:DAYLIGHT
TZOFFSETFROM:+0100
TZOFFSETTO:+0200
TZNAME:CEST
DTSTART:20170326T010000
END:DAYLIGHT
BEGIN:STANDARD
TZOFFSETFROM:+0200
TZOFFSETTO:+0100
TZNAME:CET
DTSTART:20171029T010000
END:STANDARD
END:VTIMEZONE
BEGIN:VEVENT
DTSTART;TZID=Europe/Amsterdam:20170906T160000
DTEND;TZID=Europe/Amsterdam:20170906T200000
DTSTAMP:20260423T180024
CREATED:20170831T105601Z
LAST-MODIFIED:20170831T105601Z
UID:66906-1504713600-1504728000@mtbclub-discovery.nl
SUMMARY:Buitenringrit
DESCRIPTION:Woensdag 6 september gaan we weer een rondje biken met de medewerkers van de aannemer van de Buitenring. \nWe beginnen om 16.00 uur en rijden tot circa 20.00 uur. Daarna is er een gemeenschappelijk buffet. \nVerzamelplaats wordt nog bekend gemaakt\, waarschijnlijk ergens op Industrieterrein Strijthagen. \nLaat via het forum even weten als je mee wil rijden / begeleiden. \n-Joost \n
URL:https://mtbclub-discovery.nl/kalender/buitenringrit/
LOCATION:Park Strijthagen\, Hofstraat 5\, Landgraaf\, Limburg\, Nederland
CATEGORIES:Club evenement
END:VEVENT
END:VCALENDAR