BEGIN:VCALENDAR
VERSION:2.0
PRODID:-//MTB Club Discovery - ECPv5.1.4//NONSGML v1.0//EN
CALSCALE:GREGORIAN
METHOD:PUBLISH
X-WR-CALNAME:MTB Club Discovery
X-ORIGINAL-URL:https://mtbclub-discovery.nl
X-WR-CALDESC:Evenementen voor MTB Club Discovery
BEGIN:VTIMEZONE
TZID:Europe/Amsterdam
BEGIN:DAYLIGHT
TZOFFSETFROM:+0100
TZOFFSETTO:+0200
TZNAME:CEST
DTSTART:20170326T010000
END:DAYLIGHT
BEGIN:STANDARD
TZOFFSETFROM:+0200
TZOFFSETTO:+0100
TZNAME:CET
DTSTART:20171029T010000
END:STANDARD
END:VTIMEZONE
BEGIN:VEVENT
DTSTART;VALUE=DATE:20171015
DTEND;VALUE=DATE:20171016
DTSTAMP:20260424T222841
CREATED:20171005T040104Z
LAST-MODIFIED:20171005T040104Z
UID:66996-1508025600-1508111999@mtbclub-discovery.nl
SUMMARY:Bokkebaggertocht
DESCRIPTION:Door de organisatie van de Bokkebaggertocht zijn we uitgenodigd om op zondag 15 oktober deze tocht vanuit Valkenburg te komen rijden. Wie gaat er? \nMeer informatie: https://www.valkenburgsewielerclub.nl/index.php/bokkebaggertocht/ \n
URL:https://mtbclub-discovery.nl/kalender/bokkebaggertocht/
LOCATION:Amstel Gold Race Experience\, Plenkertstraat 50\, Valkenburg\, Nederland
CATEGORIES:Tourtocht
END:VEVENT
END:VCALENDAR