BEGIN:VCALENDAR
VERSION:2.0
PRODID:-//MTB Club Discovery - ECPv5.1.4//NONSGML v1.0//EN
CALSCALE:GREGORIAN
METHOD:PUBLISH
X-WR-CALNAME:MTB Club Discovery
X-ORIGINAL-URL:https://mtbclub-discovery.nl
X-WR-CALDESC:Evenementen voor MTB Club Discovery
BEGIN:VTIMEZONE
TZID:Europe/Amsterdam
BEGIN:DAYLIGHT
TZOFFSETFROM:+0100
TZOFFSETTO:+0200
TZNAME:CEST
DTSTART:20170326T010000
END:DAYLIGHT
BEGIN:STANDARD
TZOFFSETFROM:+0200
TZOFFSETTO:+0100
TZNAME:CET
DTSTART:20171029T010000
END:STANDARD
END:VTIMEZONE
BEGIN:VEVENT
DTSTART;TZID=Europe/Amsterdam:20170412T190000
DTEND;TZID=Europe/Amsterdam:20170412T210000
DTSTAMP:20260424T051034
CREATED:20170406T115431Z
LAST-MODIFIED:20170406T115431Z
UID:66396-1492023600-1492030800@mtbclub-discovery.nl
SUMMARY:Avondclubtocht
DESCRIPTION:Na de eerste avondclubtocht naar Groeve Adolf en de tweede naar de Hendrik in Brunssum is het 12 april tijd voor de derde avondclubtocht van dit jaar. \nVerzamelen doen we om 19.00 uur op Park Strijthagen en ter plaatse bepalen we waar we naar toe gaan. Het is een relaxte tocht op recreatief tempo onder het motto samen uit\, samen thuis. \n
URL:https://mtbclub-discovery.nl/kalender/avondclubtocht/
LOCATION:Park Strijthagen\, Hofstraat 5\, Landgraaf\, Limburg\, Nederland
CATEGORIES:Clubtocht
END:VEVENT
END:VCALENDAR