BEGIN:VCALENDAR
VERSION:2.0
PRODID:-//MTB Club Discovery - ECPv5.1.4//NONSGML v1.0//EN
CALSCALE:GREGORIAN
METHOD:PUBLISH
X-WR-CALNAME:MTB Club Discovery
X-ORIGINAL-URL:https://mtbclub-discovery.nl
X-WR-CALDESC:Evenementen voor MTB Club Discovery
BEGIN:VTIMEZONE
TZID:Europe/Amsterdam
BEGIN:DAYLIGHT
TZOFFSETFROM:+0100
TZOFFSETTO:+0200
TZNAME:CEST
DTSTART:20170326T010000
END:DAYLIGHT
BEGIN:STANDARD
TZOFFSETFROM:+0200
TZOFFSETTO:+0100
TZNAME:CET
DTSTART:20171029T010000
END:STANDARD
END:VTIMEZONE
BEGIN:VEVENT
DTSTART;TZID=Europe/Amsterdam:20170906T190000
DTEND;TZID=Europe/Amsterdam:20170906T210000
DTSTAMP:20260423T193108
CREATED:20170831T113109Z
LAST-MODIFIED:20170831T113109Z
UID:66912-1504724400-1504731600@mtbclub-discovery.nl
SUMMARY:Avondclubtocht 6 september
DESCRIPTION:Mocht de rit met de werknemers van de Buitenring te vroeg voor je zijn\, er is ook nog een avondclubtocht! We vertrekken om 19.00 uur op Park Strijthagen onder het motto samen uit\, samen thuis. De route verzinnen we ter plekke en om ongeveer 21.00 uur zijn we weer terug. \nVerlichting meenemen\, want het wordt steeds eerder donker! \n
URL:https://mtbclub-discovery.nl/kalender/avondclubtocht-6-september/
LOCATION:Park Strijthagen\, Hofstraat 5\, Landgraaf\, Limburg\, Nederland
CATEGORIES:Clubtocht
END:VEVENT
END:VCALENDAR