BEGIN:VCALENDAR
VERSION:2.0
PRODID:-//MTB Club Discovery - ECPv5.1.4//NONSGML v1.0//EN
CALSCALE:GREGORIAN
METHOD:PUBLISH
X-WR-CALNAME:MTB Club Discovery
X-ORIGINAL-URL:https://mtbclub-discovery.nl
X-WR-CALDESC:Evenementen voor MTB Club Discovery
BEGIN:VTIMEZONE
TZID:Europe/Amsterdam
BEGIN:DAYLIGHT
TZOFFSETFROM:+0100
TZOFFSETTO:+0200
TZNAME:CEST
DTSTART:20170326T010000
END:DAYLIGHT
BEGIN:STANDARD
TZOFFSETFROM:+0200
TZOFFSETTO:+0100
TZNAME:CET
DTSTART:20171029T010000
END:STANDARD
END:VTIMEZONE
BEGIN:VEVENT
DTSTART;TZID=Europe/Amsterdam:20171004T080000
DTEND;TZID=Europe/Amsterdam:20171004T170000
DTSTAMP:20260424T122438
CREATED:20170930T110434Z
LAST-MODIFIED:20170930T110705Z
UID:66992-1507104000-1507136400@mtbclub-discovery.nl
SUMMARY:Avondclubtocht 4 oktober
DESCRIPTION:Vorige week zijn we een kijkje gaan nemen bij de vorderingen van de aannemer van de Buitenring bij BikePark Hendrik. Waar gaan we deze week naar toe? \nVertrek om 19.00 uur op Park Strijthagen\, we rijden tot ongeveer 21.00 uur. \nLicht meenemen! \n
URL:https://mtbclub-discovery.nl/kalender/avondclubtocht-4-oktober/
LOCATION:Park Strijthagen\, Hofstraat 5\, Landgraaf\, Limburg\, Nederland
CATEGORIES:Clubtocht
END:VEVENT
END:VCALENDAR